BEGIN:VCALENDAR
VERSION:2.0
PRODID:-// - ECPv6.15.20//NONSGML v1.0//EN
CALSCALE:GREGORIAN
METHOD:PUBLISH
X-ORIGINAL-URL:https://iguanasong.com
X-WR-CALDESC:Eventos para 
REFRESH-INTERVAL;VALUE=DURATION:PT1H
X-Robots-Tag:noindex
X-PUBLISHED-TTL:PT1H
BEGIN:VTIMEZONE
TZID:America/Santiago
BEGIN:STANDARD
TZOFFSETFROM:-0300
TZOFFSETTO:-0400
TZNAME:-04
DTSTART:20250406T030000
END:STANDARD
BEGIN:DAYLIGHT
TZOFFSETFROM:-0400
TZOFFSETTO:-0300
TZNAME:-03
DTSTART:20250907T040000
END:DAYLIGHT
BEGIN:STANDARD
TZOFFSETFROM:-0300
TZOFFSETTO:-0400
TZNAME:-04
DTSTART:20260405T030000
END:STANDARD
BEGIN:DAYLIGHT
TZOFFSETFROM:-0400
TZOFFSETTO:-0300
TZNAME:-03
DTSTART:20260906T040000
END:DAYLIGHT
BEGIN:STANDARD
TZOFFSETFROM:-0300
TZOFFSETTO:-0400
TZNAME:-04
DTSTART:20270404T030000
END:STANDARD
BEGIN:DAYLIGHT
TZOFFSETFROM:-0400
TZOFFSETTO:-0300
TZNAME:-03
DTSTART:20270905T040000
END:DAYLIGHT
END:VTIMEZONE
BEGIN:VEVENT
DTSTART;VALUE=DATE:20260509
DTEND;VALUE=DATE:20260510
DTSTAMP:20260419T180001
CREATED:20260109T215259Z
LAST-MODIFIED:20260109T215536Z
UID:31983-1778284800-1778371199@iguanasong.com
SUMMARY:Vader en Santiago de Chile
DESCRIPTION:Vader en Santiago de Chile\nVader en Santiago de Chile\nLa legendaria fuerza del metal polaco confirma su retorno triunfal a Santiago de Chile para una jornada de pura brutalidad. La agrupación de death/thrash metal aterrizará en el país para conmemorar más de cuatro décadas de una trayectoria implacable. La cita para este encuentro con la historia del metal extremo ocurrirá el próximo 9 de mayo. El escenario que recibirá esta descarga de energía será el céntrico Teatro Cariola. La productora Chargola Pro lidera la organización de este evento\, consolidando la presencia de Vader en Santiago de Chile como uno de los hitos del año para los fanáticos del género. \n\nDetalles de Entradas\nSi planeas asistir a esta demostración de poder técnico\, toma nota de los siguientes puntos clave: \n\n\nEl concierto de Vader se realizará el 9 de mayo en el Teatro Cariola. \n\n\nLa venta oficial de entradas se realiza a través del sistema Ticketplus. \n\n\nEl evento contará con la participación de las bandas internacionales Rage y Master. \n\n\nTambién se presentará la agrupación chilena Homicidie como parte del cartel confirmado. \n\n\nLa banda interpretará un setlist especial que incluye los álbumes «Litany» e «Impressions in Blood»\, además de los EPs «Kingdom» y «Reign Forever World». \n\n\n\nReseña del Artista\nVader destaca como una de las instituciones más respetadas y antiguas del metal extremo europeo. Fundada en 1983 en Olsztyn\, Polonia\, la banda pionera logró traspasar las fronteras del bloque oriental para conquistar la escena mundial con un sonido feroz. Su propuesta musical se caracteriza por una mezcla técnica de death y thrash metal\, abordando temáticas que van desde la guerra hasta el misticismo oscuro. Tras más de cuarenta años de actividad\, los polacos mantienen una vigencia asombrosa\, siendo referentes obligatorios junto a nombres como Behemoth. \nEn la actualidad\, el grupo mantiene una formación sólida liderada por el icónico fundador Piotr “Peter” Wiwczarek en voz y guitarra. Lo acompañan Tomasz “Hal” Halicki en el bajo\, Marek “Spider” Pająk y Maurycy “Mauser” Stefanowicz en las guitarras\, junto a Michał Andrzejczyk en la batería. Esta alineación garantiza una ejecución impecable de sus himnos más veloces y pesados. Su regreso a Chile con el tour «Reign Forever in Kingdom of Blood» no es solo un concierto\, sino una celebración de la persistencia de un sonido que ha definido al metal polaco a nivel global. \n\nUna cumbre del metal extremo\nEste evento representa la oportunidad ideal para presenciar un setlist diseñado exclusivamente para los fanáticos de su etapa más emblemática. El Teatro Cariola ofrece la atmósfera perfecta para vivir la intensidad de los polacos junto a leyendas como Rage y Master. La propuesta de Vader invita a sumergirse en la historia de trabajos discográficos que son pilares del género. No dejes pasar la oportunidad de asegurar tu ticket y ser parte de esta gira latinoamericana que promete sacudir los cimientos de la capital. \n¿A quién veremos el próximo 9 de mayo en el Teatro Cariola para ver a Vader en Santiago de Chile?.
URL:https://iguanasong.com/calendario/vader-en-santiago-de-chile/
LOCATION:Teatro Cariola\, Santiago\, Chile
CATEGORIES:Metal,Thrash Metal
ATTACH;FMTTYPE=image/png:https://iguanasong.com/wp-content/uploads/2026/01/FLYERS-VADER-STGO-2026-1-scaled.png
END:VEVENT
END:VCALENDAR