BEGIN:VCALENDAR
VERSION:2.0
PRODID:-// - ECPv6.15.20//NONSGML v1.0//EN
CALSCALE:GREGORIAN
METHOD:PUBLISH
X-ORIGINAL-URL:https://iguanasong.com
X-WR-CALDESC:Eventos para 
REFRESH-INTERVAL;VALUE=DURATION:PT1H
X-Robots-Tag:noindex
X-PUBLISHED-TTL:PT1H
BEGIN:VTIMEZONE
TZID:America/Santiago
BEGIN:STANDARD
TZOFFSETFROM:-0300
TZOFFSETTO:-0400
TZNAME:-04
DTSTART:20250406T030000
END:STANDARD
BEGIN:DAYLIGHT
TZOFFSETFROM:-0400
TZOFFSETTO:-0300
TZNAME:-03
DTSTART:20250907T040000
END:DAYLIGHT
BEGIN:STANDARD
TZOFFSETFROM:-0300
TZOFFSETTO:-0400
TZNAME:-04
DTSTART:20260405T030000
END:STANDARD
BEGIN:DAYLIGHT
TZOFFSETFROM:-0400
TZOFFSETTO:-0300
TZNAME:-03
DTSTART:20260906T040000
END:DAYLIGHT
BEGIN:STANDARD
TZOFFSETFROM:-0300
TZOFFSETTO:-0400
TZNAME:-04
DTSTART:20270404T030000
END:STANDARD
BEGIN:DAYLIGHT
TZOFFSETFROM:-0400
TZOFFSETTO:-0300
TZNAME:-03
DTSTART:20270905T040000
END:DAYLIGHT
END:VTIMEZONE
BEGIN:VEVENT
DTSTART;VALUE=DATE:20260115
DTEND;VALUE=DATE:20260116
DTSTAMP:20260421T165200
CREATED:20260112T204305Z
LAST-MODIFIED:20260112T204305Z
UID:32031-1768435200-1768521599@iguanasong.com
SUMMARY:Julius Popper en el Club Subterráneo
DESCRIPTION:Julius Popper en el Subterráneo\nLa destacada agrupación penquista Julius Popper regresa a la capital esta vez en el Club Subterráneo para ofrecer un concierto cargado de blues\, rock y esa elegancia sonora que los caracteriza. Julius Popper se presentará en un formato íntimo y potente\, ideal para repasar los grandes éxitos de su discografía en uno de los escenarios más tradicionales de la vida nocturna de Providencia. La cita para este encuentro con la música en vivo será el próximo jueves 15 de enero. El recinto encargado de recibir a la banda es el Club Subterráneo\, un espacio que garantiza una atmósfera única para disfrutar de su calidad interpretativa. \n\nDetalles de Entradas y Horarios\nSi quieres asegurar tu lugar en esta jornada de rock y blues\, considera la siguiente información clave: \n\n\nEl concierto se llevará a cabo el jueves 15 de enero. \n\n\nLa apertura de puertas está programada para las 18:00 horas. \n\n\nEl inicio del show en vivo está fijado para las 21:00 horas. \n\n\nEl evento se realizará en Club Subterráneo\, ubicado en Orrego Luco 46\, Providencia. \n\n\nLas entradas ya se encuentran disponibles a través del sistema Ticketplus+. \n\n\n\nReseña del Artista\nJulius Popper destaca como una de las bandas más sólidas y originales de la escena musical chilena actual. Formada en Concepción\, la agrupación liderada por el carismático vocalista Alejandro Venegas ha logrado forjar un sonido distintivo que mezcla con maestría el blues\, el jazz y el rock and roll. Con líricas que narran historias urbanas y desamores con un toque de ironía y sofisticación\, se han ganado un lugar privilegiado en el corazón del público nacional. \nLa trayectoria de la banda resalta por su capacidad para ofrecer directos impecables\, donde la sección de vientos y la potente voz de Venegas son los protagonistas absolutos. Canciones como «Huye»\, «La Innombrable» y «Genoveva» se han convertido en clásicos de su repertorio\, acumulando millones de reproducciones y consolidándolos como un referente del sonido del sur de Chile. Su presentación en el Club Subterráneo representa una oportunidad perfecta para ver de cerca a una banda en plena madurez artística\, capaz de transformar cualquier escenario en una verdadera fiesta de blues rock. \n\nUna noche de blues y rock en Providencia\nEste concierto representa la oportunidad ideal para disfrutar de la propuesta de Julius Popper en un entorno que favorece la cercanía entre los músicos y su audiencia. Club Subterráneo ofrece la infraestructura necesaria para que cada arreglo instrumental resuene con claridad\, permitiendo que los asistentes se sumerjan en la atmósfera envolvente de la banda. La invitación es a llegar temprano para disfrutar de la apertura de puertas y prepararse para una jornada donde la buena música será la protagonista. No dejes pasar la oportunidad de asegurar tu ticket y ser parte de este evento imperdible para comenzar el año con la mejor energía musical. \n¿A quién veremos el próximo 15 de enero en el Club Subterráneo para disfrutar de Julius Popper en Santiago?
URL:https://iguanasong.com/calendario/julius-popper-en-club-subterraneo/
LOCATION:Club Subterráneo\, Santiago\, Chile
CATEGORIES:Indie Rock,Rock Alternativo
ATTACH;FMTTYPE=image/avif:https://iguanasong.com/wp-content/uploads/2026/01/julius_popper.avif
END:VEVENT
END:VCALENDAR