BEGIN:VCALENDAR
VERSION:2.0
PRODID:-// - ECPv6.15.20//NONSGML v1.0//EN
CALSCALE:GREGORIAN
METHOD:PUBLISH
X-ORIGINAL-URL:https://iguanasong.com
X-WR-CALDESC:Eventos para 
REFRESH-INTERVAL;VALUE=DURATION:PT1H
X-Robots-Tag:noindex
X-PUBLISHED-TTL:PT1H
BEGIN:VTIMEZONE
TZID:America/Santiago
BEGIN:STANDARD
TZOFFSETFROM:-0300
TZOFFSETTO:-0400
TZNAME:-04
DTSTART:20250406T030000
END:STANDARD
BEGIN:DAYLIGHT
TZOFFSETFROM:-0400
TZOFFSETTO:-0300
TZNAME:-03
DTSTART:20250907T040000
END:DAYLIGHT
BEGIN:STANDARD
TZOFFSETFROM:-0300
TZOFFSETTO:-0400
TZNAME:-04
DTSTART:20260405T030000
END:STANDARD
BEGIN:DAYLIGHT
TZOFFSETFROM:-0400
TZOFFSETTO:-0300
TZNAME:-03
DTSTART:20260906T040000
END:DAYLIGHT
BEGIN:STANDARD
TZOFFSETFROM:-0300
TZOFFSETTO:-0400
TZNAME:-04
DTSTART:20270404T030000
END:STANDARD
BEGIN:DAYLIGHT
TZOFFSETFROM:-0400
TZOFFSETTO:-0300
TZNAME:-03
DTSTART:20270905T040000
END:DAYLIGHT
END:VTIMEZONE
BEGIN:VEVENT
DTSTART;VALUE=DATE:20260222
DTEND;VALUE=DATE:20260223
DTSTAMP:20260421T125316
CREATED:20260109T234605Z
LAST-MODIFIED:20260109T234605Z
UID:31995-1771718400-1771804799@iguanasong.com
SUMMARY:Human Tetris en Santiago de Chile
DESCRIPTION:Human Tetris en Santiago de Chile\n\n\n\n\n\n\n\n\nLa melancolía y el ritmo hipnótico del post-punk ruso Human Tetris regresan con fuerza a Santiago de Chile. La aclamada agrupación moscovita Human Tetris prepara un reencuentro imperdible con sus seguidores locales en el marco de su nueva gira latinoamericana. La esperada cita musical ocurrirá el próximo domingo 22 de febrero de 2026. El escenario elegido para desplegar su atmósfera oscura y ochentera es la Sala Metrónomo\, ubicada en el corazón de Recoleta. La jornada promete un viaje sonoro por lo mejor de su repertorio\, consolidando una vez más la conexión única entre la banda y el público chileno. \n\nDetalles de Entradas\nSi deseas ser parte de esta experiencia cargada de sintetizadores y bajos pulsantes\, considera los siguientes puntos clave: \n\n\nEl concierto se llevará a cabo el domingo 22 de febrero de 2026. \n\n\nEl recinto oficial es la Sala Metrónomo\, situada en Ernesto Pinto Lagarrigue 179. \n\n\nLa apertura de puertas está programada para las 19:00 horas. \n\n\nLas entradas se encuentran disponibles exclusivamente a través del sistema Passline. \n\n\nEl evento es exclusivo para mayores de 18 años. \n\n\n\nReseña del Artista\nHuman Tetris destaca como uno de los máximos referentes del post-punk revival a nivel global. Formada en octubre de 2008 en Moscú\, Rusia\, la banda logró capturar rápidamente la atención de la escena alternativa internacional con un sonido que rinde tributo a leyendas como Joy Division y The Cure. Su propuesta musical equilibra perfectamente la frialdad de los sintetizadores con melodías dinámicas y letras introspectivas que abordan la naturaleza de las relaciones humanas. A lo largo de los años\, han sabido evolucionar su estilo\, incorporando matices de jangle pop y una producción más deliberada que resuena con la melancolía contemporánea. \nLa trayectoria de la agrupación incluye trabajos fundamentales como los EPs River\, Pt. 1 y álbumes aclamados como Happy Way in the Maze of Rebirth y Memorabilia (2018). Canciones icónicas como «Things I Don’t Need»\, «Another Day» y «Trier» se han convertido en himnos para una generación que encontró en su sonido un refugio emocional. En la actualidad\, la banda —conformada por Arvid Kriger\, Tonia Minaeva y Ramil Mubinov— continúa explorando nuevas fronteras sonoras con lanzamientos recientes como Two Rooms (2023) y Common Feeling (2025). Su regreso a Chile representa la oportunidad de vivir en directo la energía cruda y honesta que los ha posicionado como una pieza clave del «boom» del post-punk ruso en Latinoamérica. \n\nUna noche de nostalgia y baile en Sala Metrónomo\nEste concierto representa la oportunidad ideal para disfrutar de la maestría interpretativa de Human Tetris en un entorno íntimo y envolvente. Sala Metrónomo ofrece la infraestructura técnica necesaria para apreciar cada matiz de los ritmos motorik y las guitarras atmosféricas de los moscovitas. La propuesta de la banda invita a una catarsis colectiva donde la oscuridad y el baile se encuentran en perfecta armonía. No dejes pasar la oportunidad de asegurar tu ticket para uno de los eventos más esperados del circuito alternativo santiaguino para este verano. \n¿A quién veremos el próximo 22 de febrero en la Sala Metrónomo para ver a Human Tetris en Santiago de Chile?.
URL:https://iguanasong.com/calendario/human-tetris-santiago-de-chile/
LOCATION:Sala Metrónomo\, Santiago\, Chile
CATEGORIES:Post Punk
ATTACH;FMTTYPE=image/jpeg:https://iguanasong.com/wp-content/uploads/2026/01/tetris_chile-scaled.jpg
END:VEVENT
END:VCALENDAR