BEGIN:VCALENDAR
VERSION:2.0
PRODID:-// - ECPv6.15.20//NONSGML v1.0//EN
CALSCALE:GREGORIAN
METHOD:PUBLISH
X-ORIGINAL-URL:https://iguanasong.com
X-WR-CALDESC:Eventos para 
REFRESH-INTERVAL;VALUE=DURATION:PT1H
X-Robots-Tag:noindex
X-PUBLISHED-TTL:PT1H
BEGIN:VTIMEZONE
TZID:America/Santiago
BEGIN:STANDARD
TZOFFSETFROM:-0300
TZOFFSETTO:-0400
TZNAME:-04
DTSTART:20250406T030000
END:STANDARD
BEGIN:DAYLIGHT
TZOFFSETFROM:-0400
TZOFFSETTO:-0300
TZNAME:-03
DTSTART:20250907T040000
END:DAYLIGHT
BEGIN:STANDARD
TZOFFSETFROM:-0300
TZOFFSETTO:-0400
TZNAME:-04
DTSTART:20260405T030000
END:STANDARD
BEGIN:DAYLIGHT
TZOFFSETFROM:-0400
TZOFFSETTO:-0300
TZNAME:-03
DTSTART:20260906T040000
END:DAYLIGHT
BEGIN:STANDARD
TZOFFSETFROM:-0300
TZOFFSETTO:-0400
TZNAME:-04
DTSTART:20270404T030000
END:STANDARD
BEGIN:DAYLIGHT
TZOFFSETFROM:-0400
TZOFFSETTO:-0300
TZNAME:-03
DTSTART:20270905T040000
END:DAYLIGHT
END:VTIMEZONE
BEGIN:VEVENT
DTSTART;VALUE=DATE:20260220
DTEND;VALUE=DATE:20260221
DTSTAMP:20260421T105823
CREATED:20251121T190340Z
LAST-MODIFIED:20260105T204518Z
UID:31034-1771545600-1771631999@iguanasong.com
SUMMARY:Fiddlehead + Rival Schools en Chile
DESCRIPTION:FIDDLEHEAD Y RIVAL SCHOOLS AGENDAN SU PASO POR CHILE\n  \n \n¡El verano en Chile viene con todo! Fiddlehead y Rivals Schools también decidieron visitar nuestro\npaís en esta temporada. \nLa cita será el 20 de febrero de 2026 en Sala Metrónomo (Ernesto\nPinto Lagarrigue 179\, Recoleta). \nVenta de entradas a través de Passline. \nFiddlehead llegará con todo a Chile en 2026. El súper-grupo de post hardcore formado por\nintegrantes de Basement\, Have Heart y otras importantes bandas de la escena\, anunció su primera\ngira por Sudamérica y por supuesto que Chile es uno de los des=nos elegidos.\nPero eso no es todo\, ya que la gira que también llegará a Brasil y otros países de la región\, traerá\nconsigo a otra super banda: Rival Schools\, banda de post hardcore formada en nueva york\,\nconformada por ex integrantes de bandas de los 80s y los 90s como Gorilla Biscuits\, CIV\, Youth of\nToday y Iceburn.\nEl show se realizará el 20 de febrero de 2026 en Sala Metrónomo y las entradas ya están disponibles\na través de Passline. Evento para +18 años.\nDatos clave:\nFecha: 20 de febrero de 2026.\nLugar: Sala Metrónomo. Ernesto Pinto Lagarrigue #179\, Recoleta.\nTicketera: Passline. Evento para +18 años.
URL:https://iguanasong.com/calendario/fiddlehead-rival-schools-en-chile/
LOCATION:Sala Metrónomo\, Santiago\, Chile
CATEGORIES:Hard Rock
ATTACH;FMTTYPE=image/jpeg:https://iguanasong.com/wp-content/uploads/2025/11/feed-1-scaled.jpg
END:VEVENT
END:VCALENDAR