BEGIN:VCALENDAR
VERSION:2.0
PRODID:-// - ECPv6.15.20//NONSGML v1.0//EN
CALSCALE:GREGORIAN
METHOD:PUBLISH
X-ORIGINAL-URL:https://iguanasong.com
X-WR-CALDESC:Eventos para 
REFRESH-INTERVAL;VALUE=DURATION:PT1H
X-Robots-Tag:noindex
X-PUBLISHED-TTL:PT1H
BEGIN:VTIMEZONE
TZID:America/Santiago
BEGIN:STANDARD
TZOFFSETFROM:-0300
TZOFFSETTO:-0400
TZNAME:-04
DTSTART:20250406T030000
END:STANDARD
BEGIN:DAYLIGHT
TZOFFSETFROM:-0400
TZOFFSETTO:-0300
TZNAME:-03
DTSTART:20250907T040000
END:DAYLIGHT
BEGIN:STANDARD
TZOFFSETFROM:-0300
TZOFFSETTO:-0400
TZNAME:-04
DTSTART:20260405T030000
END:STANDARD
BEGIN:DAYLIGHT
TZOFFSETFROM:-0400
TZOFFSETTO:-0300
TZNAME:-03
DTSTART:20260906T040000
END:DAYLIGHT
BEGIN:STANDARD
TZOFFSETFROM:-0300
TZOFFSETTO:-0400
TZNAME:-04
DTSTART:20270404T030000
END:STANDARD
BEGIN:DAYLIGHT
TZOFFSETFROM:-0400
TZOFFSETTO:-0300
TZNAME:-03
DTSTART:20270905T040000
END:DAYLIGHT
END:VTIMEZONE
BEGIN:VEVENT
DTSTART;VALUE=DATE:20260421
DTEND;VALUE=DATE:20260422
DTSTAMP:20260421T054950
CREATED:20260108T213334Z
LAST-MODIFIED:20260420T205716Z
UID:31945-1776729600-1776815999@iguanasong.com
SUMMARY:Roxette en Santiago de Chile
DESCRIPTION:Roxette en Santiago de Chile\nLa nostalgia y la energía del pop-rock Roxette sueco regresan con fuerza para presentarse en Santiago de Chile. El legendario fundador Per Gessle reúne a su clásica banda\, Roxette\, para un espectáculo que promete revivir décadas de éxitos. En esta ocasión\, la agrupación contará con la participación especial de la talentosa Lena Philipsson en las voces. La esperada cita musical ocurrirá el próximo 21 de abril de 2026. El escenario elegido para este reencuentro histórico es el Movistar Arena\, garantizando una experiencia de primer nivel para todos los asistentes. Bajo el lema «Back Again!»\, la banda vuelve a los escenarios para demostrar por qué su legado sigue más vivo que nunca. \nReseña del Artista\nRoxette destaca como uno de los dúos más exitosos y queridos en la historia del pop internacional. Formados en Suecia a mediados de los años 80\, la combinación del talento compositivo de Per Gessle y la voz inolvidable de Marie Fredriksson conquistó rápidamente las listas mundiales. Lograron posicionar múltiples sencillos en el número uno del Billboard\, convirtiéndose en un fenómeno global que trascendió fronteras. Su música equilibra perfectamente las baladas potentes con canciones de rock melódico cargadas de energía. A lo largo de su carrera\, han vendido más de 75 millones de discos en todo el planeta. \nEl repertorio de la banda incluye himnos generacionales que siguen sonando en todas las radios del mundo. Canciones icónicas como «It Must Have Been Love»\, «Listen to Your Heart» y «The Look» definieron una era dorada de la música pop. Tras la triste partida de Marie\, Per Gessle decidió honrar el legado del grupo volviendo a los escenarios con una nueva formación respetuosa y vibrante. La inclusión de Lena Philipsson aporta una nueva frescura vocal sin perder la esencia que hizo famosa a la agrupación. Ver a Roxette en vivo hoy es una oportunidad para celebrar la resiliencia de su catálogo musical y la maestría de sus composiciones originales. \nUn regreso esperado por generaciones\nEste concierto representa una oportunidad invaluable para disfrutar de clásicos que han marcado la vida de miles de chilenos. El Movistar Arena ofrece el entorno perfecto para corear cada una de las canciones en una atmósfera de celebración y recuerdos. La química entre Gessle y Philipsson sobre el escenario promete capturar la magia que siempre caracterizó a los espectáculos de la banda sueca. Asegura tu lugar en este reencuentro que promete ser uno de los momentos más memorables del calendario musical del año. \n¿A quién veremos el próximo 21 de abril en el Movistar Arena para ver a Roxette en Santiago de Chile?.
URL:https://iguanasong.com/calendario/roxette-en-santiago-de-chile/
LOCATION:Movistar Arena\, Santiago\, Chile
CATEGORIES:Rock,Rock Alternativo
ATTACH;FMTTYPE=image/jpeg:https://iguanasong.com/wp-content/uploads/2026/01/roxette_chile-scaled.jpg
END:VEVENT
BEGIN:VEVENT
DTSTART;VALUE=DATE:20260421
DTEND;VALUE=DATE:20260422
DTSTAMP:20260421T054950
CREATED:20260220T143242Z
LAST-MODIFIED:20260419T172634Z
UID:32727-1776729600-1776815999@iguanasong.com
SUMMARY:Candlebox en Santiago de Chile
DESCRIPTION:Candlebox en Santiago de Chile\nLa llegada de Candlebox a Santiago de Chile se confirma como uno de los platos fuertes para los amantes del rock alternativo este año. La icónica banda de Seattle se presentará el próximo 21 de abril en el Teatro Coliseo\, en lo que será el «Opening Show» oficial del festival Rockout. Este concierto promete una atmósfera cargada de nostalgia y potencia\, repasando los himnos que definieron el sonido de los años 90. \nLa venta de entradas para disfrutar de Candlebox en Santiago de Chile se realizará exclusivamente a través del sistema Punto Ticket. Bajo la producción de Transistor\, el evento en el Teatro Coliseo permitirá a los fanáticos chilenos vivir una experiencia cercana con una de las bandas más emblemáticas del post-grunge\, asegurando un despliegue técnico y sonoro de alta calidad. \n\nReseña del Artista\nCandlebox destaca como una de las agrupaciones más exitosas y duraderas surgidas de la explosión musical de Seattle a principios de la década de los 90. Con la voz inconfundible de Kevin Martin a la cabeza\, la banda logró capturar la atención mundial con su álbum debut homónimo\, el cual alcanzó la certificación de cuádruple platino gracias a baladas potentes y riffs memorables. A diferencia de muchos de sus contemporáneos\, Candlebox supo integrar matices del blues y el rock clásico en su propuesta\, otorgándoles un sello distintivo en la escena grunge. \nLa trayectoria de los estadounidenses resalta por una discografía coherente que ha sabido envejecer con elegancia\, manteniendo una base de seguidores leales en todo el continente. Canciones como «Far Behind»\, «You» y «Cover Me» no solo dominaron las listas de éxitos en su momento\, sino que se han convertido en clásicos fundamentales del rock contemporáneo. Tras periodos de giras intensas y lanzamientos aclamados por la crítica\, Candlebox continúa demostrando en vivo que su energía y pasión por el escenario permanecen intactas. \n\nOpening Show Rockout: La cita en Teatro Coliseo\nEl concierto de Candlebox en Santiago de Chile este 21 de abril servirá como la antesala perfecta para el festival Rockout\, ofreciendo un show de larga duración dedicado íntegramente a sus fanáticos. El Teatro Coliseo\, reconocido por su excelente acústica y ubicación privilegiada en el centro de la capital\, será el epicentro de una jornada donde el rock será el único protagonista. \nNo pierdas la oportunidad de asegurar tus tickets en Punto Ticket para este encuentro histórico con el quinteto de Seattle. Con la garantía de producción de Transistor\, Santiago se prepara para una noche de guitarras afiladas y voces potentes que marcará el inicio de la temporada de grandes festivales en el país. \n¿A quién veremos el próximo 21 de abril en el Teatro Coliseo para vivir la experiencia de Candlebox en Santiago de Chile?.
URL:https://iguanasong.com/calendario/candlebox-en-santiago-de-chile/
LOCATION:Teatro Coliseo\, Santiago\, Chile
CATEGORIES:Grunge,Rock,Rock Alternativo
ATTACH;FMTTYPE=image/jpeg:https://iguanasong.com/wp-content/uploads/2026/02/candlexbox-scaled.jpg
END:VEVENT
BEGIN:VEVENT
DTSTART;VALUE=DATE:20260422
DTEND;VALUE=DATE:20260423
DTSTAMP:20260421T054950
CREATED:20260113T183055Z
LAST-MODIFIED:20260215T221833Z
UID:32037-1776816000-1776902399@iguanasong.com
SUMMARY:Dream Theater en Santiago de Chile
DESCRIPTION:Dream Theater en Santiago de Chile\nLos referentes absolutos del metal progresivo «Dream Theater» regresan a Santiago de Chile para ofrecer una noche épica de virtuosismo y maestría instrumental. Bajo el concepto «An Evening With Dream Theater»\, la banda se presentará en Santiago como parte de su 40th Anniversary Tour\, una gira que celebra cuatro décadas de trayectoria en la cima del género. La gran cita está programada para el próximo miércoles 22 de abril de 2026. El recinto encargado de albergar esta jornada de metal técnico será el Movistar Arena\, el escenario más importante para conciertos de gran escala en la capital. \n\nDetalles de Entradas y Venta\nSi quieres ser parte de esta celebración del progresivo\, toma nota de los plazos y sistemas de venta: \n\n\nPreventa Fans: Comienza el jueves 15 de enero a las 12:00 pm. \n\n\nVenta General: Se habilita el viernes 16 de enero a las 12:00 pm. \n\n\nEl sistema oficial de venta de entradas es Punto Ticket. \n\n\nLa producción del evento está a cargo de Lotus. \n\n\n\nReseña del Artista\nDream Theater es\, sin duda\, la banda más influyente del metal progresivo moderno. Formada a mediados de los 80 en el Berklee College of Music\, la agrupación ha destacado por su asombrosa capacidad técnica\, composiciones complejas y una ejecución en vivo impecable. Con una discografía que incluye hitos como Images and Words y Metropolis Pt. 2: Scenes from a Memory\, han logrado unir la agresividad del metal con la sofisticación del rock progresivo y el jazz fusión\, ganándose el respeto de críticos y músicos por igual. \nEsta gira de 40 aniversario es especialmente significativa\, ya que marca el regreso a los escenarios de su formación más icónica. La banda llega a Chile no solo para celebrar su longevidad\, sino para presentar su nuevo material discográfico\, demostrando que su capacidad creativa sigue tan vigente como en sus inicios. Ver a Dream Theater en el Movistar Arena es presenciar una clase magistral de música\, donde cada integrante es un virtuoso en su instrumento\, creando una experiencia inmersiva para los amantes de las estructuras rítmicas complejas y las melodías memorables. \n\nUn setlist histórico para los fans\nEsta presentación en el Movistar Arena ha sido diseñada como un regalo para los «verdaderos creyentes» del prog. El show contempla: \n\n\nLa interpretación íntegra de su nuevo álbum\, Parasomnia. \n\n\nLa celebración especial de los 30 años de «A Change of Seasons»\, una de sus obras más queridas y ambiciosas. \n\n\nUn recorrido por clásicos de su discografía y los temas favoritos de la fanaticada. \n\n\nAsegura tu entrada en Punto Ticket y prepárate para una noche de técnica y emoción pura el próximo 22 de abril con Dream Theater en Santiago de Chile
URL:https://iguanasong.com/calendario/dream-theater-en-santiago-de-chile/
LOCATION:Movistar Arena\, Santiago\, Chile
CATEGORIES:Metal Progresivo,Rock Progresivo
ATTACH;FMTTYPE=image/jpeg:https://iguanasong.com/wp-content/uploads/2026/01/photo_5132343888906488743_y-scaled.jpg
END:VEVENT
BEGIN:VEVENT
DTSTART;VALUE=DATE:20260423
DTEND;VALUE=DATE:20260424
DTSTAMP:20260421T054950
CREATED:20260108T214520Z
LAST-MODIFIED:20260108T214520Z
UID:31948-1776902400-1776988799@iguanasong.com
SUMMARY:Jinjer en Santiago de Chile
DESCRIPTION:Jinjer en Santiago de Chile\nLa fuerza del metal progresivo moderno de Jinjer aterriza con toda su potencia en Santiago de Chile. La aclamada banda ucraniana llega al país como parte de su gira internacional «Latin America Duél Tour 2026». Los fanáticos del género tienen una cita obligatoria el próximo 23 de abril para presenciar uno de los actos en vivo más intensos de la actualidad. El histórico Teatro Caupolicán abrirá sus puertas para recibir esta descarga de técnica y guturales impecables. Las productoras Chargola Pro y CKConcerts lideran la organización de este evento\, asegurando una experiencia sonora de primer nivel para toda la comunidad metalera. \nDetalles de Entradas\nSi quieres asegurar tu lugar en el mosh de esta jornada\, revisa los siguientes puntos clave: \n\n\nEl sistema oficial para la venta de entradas es la plataforma Punto Ticket. \n\n\nReseña del Artista\nJinjer destaca como una de las agrupaciones más innovadoras y respetadas dentro del metal extremo a nivel global. Originarios de Ucrania\, la banda ha logrado un ascenso meteórico gracias a su compleja mezcla de progressive death metal\, metalcore y matices de jazz y groove. El grupo brilla especialmente por la figura de su vocalista\, Tatiana Shmayluk\, quien posee una versatilidad asombrosa para transitar entre voces melódicas dulces y guturales feroces. Su propuesta técnica y rítmica ha cautivado a los festivales más importantes del mundo\, posicionándolos como referentes del sonido contemporáneo. \nLa discografía de la banda incluye trabajos fundamentales como King of Pink y Macro\, los cuales han recibido elogios unánimes de la prensa especializada. Canciones como «Pisces» se han vuelto fenómenos virales\, demostrando que el metal de alta complejidad también puede conectar con audiencias masivas. Jinjer no solo destaca por su virtuosismo instrumental\, sino también por líricas profundas que abordan temas sociales y personales con gran honestidad. Su «Latin America Duél Tour 2026» representa el regreso triunfal de una banda que se encuentra en su mejor momento creativo y técnico. \nUna noche de metal técnico e implacable\nEste concierto representa la oportunidad ideal para vivir la precisión quirúrgica de Jinjer en un escenario con la mística del Caupolicán. El recinto ofrece la acústica perfecta para apreciar cada detalle de las complejas líneas de bajo y las baterías polirrítmicas que caracterizan a los ucranianos. La energía que despliega la banda en vivo promete transformar la sala en una verdadera caldera de adrenalina y técnica. No dejes pasar la oportunidad de ser parte de esta gira que está redefiniendo los límites del metal moderno en todo el continente. \n¿A quién veremos el próximo 23 de abril en el Teatro Caupolicán para ver a Jinjer en Santiago de Chile?.
URL:https://iguanasong.com/calendario/jinger-en-santiago-de-chile/
LOCATION:Teatro Caupolicán
CATEGORIES:Death Core,Death Metal,MetalCore
ATTACH;FMTTYPE=image/jpeg:https://iguanasong.com/wp-content/uploads/2026/01/jinger-scaled.jpg
END:VEVENT
BEGIN:VEVENT
DTSTART;VALUE=DATE:20260424
DTEND;VALUE=DATE:20260425
DTSTAMP:20260421T054950
CREATED:20251230T134433Z
LAST-MODIFIED:20260406T144921Z
UID:33448-1776988800-1777075199@iguanasong.com
SUMMARY:Fey en Santiago de Chile
DESCRIPTION:Fey en Santiago de Chile\nLa reina del pop mexicano\, Fey\, regresa a los escenarios de Santiago de Chile para celebrar tres décadas de trayectoria con su esperado «Hits Tour: 30 Aniversario». La cita con sus fanáticos será el próximo 24 de abril en el emblemático Teatro Caupolicán\, un recinto que promete ser el marco perfecto para una noche llena de nostalgia y baile. \nLa venta de entradas para este concierto se realiza a través del sistema Punto Ticket. Bajo la producción de Bizarro Live Entertainment . \n\nReseña del Artista\nFey es\, sin duda\, uno de los íconos más importantes del pop en español de los años 90. Desde su debut\, revolucionó la industria musical con un sonido fresco que mezclaba el pop con ritmos electrónicos\, además de imponer un estilo visual y de moda que fue imitado por millones de jóvenes en toda Latinoamérica. Con éxitos masivos como «Media naranja»\, «Azúcar amargo» y «Muévelo»\, Fey se convirtió en la artista femenina con mayores ventas en México y batió récords de presentaciones consecutivas en recintos de gran magnitud. \nA lo largo de sus 30 años de carrera\, ha demostrado una notable capacidad de evolución\, explorando géneros como el dance y el pop electrónico\, siempre manteniendo la energía que la caracteriza sobre el escenario. Su regreso a Chile con este tour de aniversario es una oportunidad para celebrar su legado y confirmar su vigencia como una de las artistas más queridas y respetadas del pop latino. \n\nHits Tour: 30 Aniversario en el Teatro Caupolicán\nEl concierto de Fey en Santiago de Chile este 24 de abril será un viaje a través del tiempo\, donde cada canción es un hito en la memoria colectiva. El Teatro Caupolicán vibrará con las coreografías y los himnos pop que han definido la carrera de la artista\, ofreciendo un espectáculo diseñado para que nadie se quede sentado. \nAsegura tus entradas en Punto Ticket y no te pierdas la celebración de tres décadas de magia pop en la capital. Con la garantía de producción de Bizarro\, Santiago se prepara para recibir un show cargado de recuerdos\, emoción y la energía inigualable de Fey. \n¿A quién veremos el próximo 24 de abril en el Teatro Caupolicán para vivir el Hits Tour de Fey en Santiago de Chile?.
URL:https://iguanasong.com/calendario/fey-en-santiago-de-chile/
LOCATION:Teatro Caupolicán
CATEGORIES:Pop,Pop Latino,Pop Rock
ATTACH;FMTTYPE=image/jpeg:https://iguanasong.com/wp-content/uploads/2026/04/fey_en_chile-scaled.jpg
END:VEVENT
BEGIN:VEVENT
DTSTART;VALUE=DATE:20260424
DTEND;VALUE=DATE:20260425
DTSTAMP:20260421T054950
CREATED:20260117T200146Z
LAST-MODIFIED:20260412T205708Z
UID:32056-1776988800-1777075199@iguanasong.com
SUMMARY:Beto Cuevas y Aterciopelados en Santiago de Chile
DESCRIPTION:Beto Cuevas Acústico + Aterciopelados en Santiago de Chile\nUna cumbre del rock latino se vivirá en Santiago con el encuentro de dos fuerzas creativas fundamentales del continente. Beto Cuevas\, la voz icónica del rock chileno\, se presentará en un formato acústico especial\, compartiendo escenario con los legendarios colombianos Aterciopelados. La cita para esta velada de grandes éxitos y versiones íntimas será el próximo viernes 24 de abril de 2026. El recinto encargado de albergar este hito musical será el Movistar Arena\, garantizando una puesta en escena de primer nivel para miles de fanáticos. \n\nDetalles del Concierto\nSi quieres asegurar tu lugar en esta histórica reunión de rock en español\, toma nota de la siguiente información: \n\n\nEl concierto se realizará el viernes 24 de abril de 2026. \n\n\nEl escenario oficial es el Movistar Arena. \n\n\nLas entradas ya se encuentran disponibles a través del sistema Punto Ticket. \n\n\nEl evento es producido por Black Elbow Music. \n\n\n\nReseña de los Artistas\nBeto Cuevas destaca como una de las figuras más relevantes del pop-rock latinoamericano. Como líder y voz de la emblemática banda La Ley\, Cuevas conquistó los mercados internacionales\, obteniendo múltiples premios Grammy y Latin Grammy. En esta ocasión\, el artista chileno explorará su faceta más íntima y cercana a través de un set acústico\, donde su calidad vocal y composiciones clásicas cobran una nueva dimensión emocional. Su capacidad para reinventar su propio legado lo mantiene como un referente vigente y respetado en toda la región. \nPor su parte\, Aterciopelados —integrado por Andrea Echeverri y Héctor Buitrago— representa la esencia del rock alternativo colombiano con conciencia social y ambiental. Con más de tres décadas de trayectoria\, la banda ha sabido mezclar los sonidos del rock con el folclore latinoamericano y la electrónica\, creando himnos generacionales como «Bolero Falaz»\, «Florecita Rockera» y «Baracunatana». Su presencia en el escenario del Movistar Arena promete una descarga de energía\, color y ese mensaje de empoderamiento y paz que los ha caracterizado desde sus inicios en la escena bogotana. \n\nUna cumbre imperdible en el Movistar Arena\nEste evento representa la oportunidad ideal para presenciar la madurez artística de dos nombres que definieron el sonido de los años 90 y 2000 en español. El Movistar Arena brinda la infraestructura perfecta para disfrutar tanto de la sutiliza del formato acústico de Beto Cuevas como de la potencia sonora y visual de Aterciopelados. La propuesta invita a un viaje por la memoria musical del continente\, en una jornada donde la elegancia y la rebeldía del rock se darán la mano. No dejes pasar la oportunidad de adquirir tus entradas en Punto Ticket para lo que promete ser uno de los conciertos más emotivos del 2026. \n¿A quién veremos el próximo 24 de abril en el Movistar Arena para vivir el show de Beto Cuevas + Aterciopelados?.
URL:https://iguanasong.com/calendario/beto-cuevas-y-aterciopelados-en-santiago-de-chile/
LOCATION:Movistar Arena\, Santiago\, Chile
CATEGORIES:Rock
ATTACH;FMTTYPE=image/jpeg:https://iguanasong.com/wp-content/uploads/2026/01/beto_cueva-1-scaled.jpg
END:VEVENT
BEGIN:VEVENT
DTSTART;VALUE=DATE:20260425
DTEND;VALUE=DATE:20260426
DTSTAMP:20260421T054950
CREATED:20260131T173611Z
LAST-MODIFIED:20260131T174629Z
UID:32258-1777075200-1777161599@iguanasong.com
SUMMARY:Rockout Festival 2026 en Santiago de Chile
DESCRIPTION:Rockout Festival 2026 en Santiago de Chile\n¡El festival de punk y rock más esperado está de vuelta! El Rockout Festival regresa para remecer la capital con su cuarta edición el próximo 25 de abril de 2026. Tras sus exitosas versiones anteriores\, el evento vuelve por tercera vez a su casa: el Estadio Santa Laura USEK\, prometiendo una jornada cargada de energía y distorsión. La producción está a cargo de Transistor y las entradas estarán disponibles a partir del lunes 2 de febrero al mediodía a través del sistema Punto Ticket. \nEste primer anuncio ya perfila al festival como uno de los hitos musicales obligatorios del año en Chile. Con un cartel que mezcla leyendas internacionales del punk con destacados exponentes de la escena en español y el talento nacional\, el Rockout se consolida como el epicentro de la cultura alternativa. Mantente atento\, ya que en las próximas semanas se revelará el cartel completo con un segundo y último anuncio de bandas confirmadas. \n\nPrimeros Confirmados: Leyendas en el Santa Laura\nEl cartel de esta edición 2026 arranca con nombres de peso mundial que garantizan una convocatoria masiva: \n\n\nBad Religion: Los padres del punk rock melódico regresan a Chile para demostrar por qué siguen siendo referentes absolutos tras décadas de trayectoria. \n\n\nEvaristo (Show Especial): El icónico líder de La Polla Records presentará un set especial que incluye los mejores hits de su banda madre junto a lo más destacado de sus proyectos posteriores como Gatillazo y Tropa do Carallo. \n\n\nDoyle: El legendario guitarrista de Misfits\, Doyle Wolfgang von Frankenstein\, traerá toda la potencia y estética del horror punk al escenario de Independencia. \n\n\nPunk en Español y Talento Nacional\nLa jornada también contará con una fuerte presencia de bandas que son instituciones en el circuito hispanoparlante y local: \n\n\nEterna Inocencia y Non Servium: Dos de las bandas más queridas del punk en español se suman a esta primera tanda para encender el mosh en el estadio. \n\n\nSkaparapid: Aportarán el dinamismo y los ritmos acelerados para mantener la energía al máximo. \n\n\nTenemos Explosivos y Mano de Obra: El combo nacional sacará la cara por el rock chileno\, demostrando la vigencia y fuerza sonora de la escena local. \n\n\n\nCoordenadas y Venta de Entradas\nPrepárate para vivir una experiencia única de rock y camaradería en uno de los recintos con más historia del fútbol y la música en Santiago. Las coordenadas son las siguientes: \n\n\nFecha: 25 de abril de 2026. \n\n\nLugar: Estadio Santa Laura USEK\, Santiago de Chile. \n\n\nInicio de venta: Lunes 2 de febrero\, 12:00 horas (mediodía). \n\n\nSistema oficial: Punto Ticket. \n\n\n¡Asegura tu entrada y sé parte del regreso más potente del 2026!. \n¿A quién veremos el próximo 25 de abril en el Estadio Santa Laura para vivir el Rockout Festival en 2026 en Santiago de Chile ?.
URL:https://iguanasong.com/calendario/rockout-festival-2026-en-santiago-de-chile/
LOCATION:Estadio Santa Laura
CATEGORIES:Punk,Rock
ATTACH;FMTTYPE=image/jpeg:https://iguanasong.com/wp-content/uploads/2026/01/rockout-scaled.jpg
END:VEVENT
END:VCALENDAR