BEGIN:VCALENDAR
VERSION:2.0
PRODID:-// - ECPv6.15.20//NONSGML v1.0//EN
CALSCALE:GREGORIAN
METHOD:PUBLISH
X-ORIGINAL-URL:https://iguanasong.com
X-WR-CALDESC:Eventos para 
REFRESH-INTERVAL;VALUE=DURATION:PT1H
X-Robots-Tag:noindex
X-PUBLISHED-TTL:PT1H
BEGIN:VTIMEZONE
TZID:America/Santiago
BEGIN:STANDARD
TZOFFSETFROM:-0300
TZOFFSETTO:-0400
TZNAME:-04
DTSTART:20250406T030000
END:STANDARD
BEGIN:DAYLIGHT
TZOFFSETFROM:-0400
TZOFFSETTO:-0300
TZNAME:-03
DTSTART:20250907T040000
END:DAYLIGHT
BEGIN:STANDARD
TZOFFSETFROM:-0300
TZOFFSETTO:-0400
TZNAME:-04
DTSTART:20260405T030000
END:STANDARD
BEGIN:DAYLIGHT
TZOFFSETFROM:-0400
TZOFFSETTO:-0300
TZNAME:-03
DTSTART:20260906T040000
END:DAYLIGHT
BEGIN:STANDARD
TZOFFSETFROM:-0300
TZOFFSETTO:-0400
TZNAME:-04
DTSTART:20270404T030000
END:STANDARD
BEGIN:DAYLIGHT
TZOFFSETFROM:-0400
TZOFFSETTO:-0300
TZNAME:-03
DTSTART:20270905T040000
END:DAYLIGHT
END:VTIMEZONE
BEGIN:VEVENT
DTSTART;VALUE=DATE:20260425
DTEND;VALUE=DATE:20260426
DTSTAMP:20260421T071145
CREATED:20260131T173611Z
LAST-MODIFIED:20260131T174629Z
UID:32258-1777075200-1777161599@iguanasong.com
SUMMARY:Rockout Festival 2026 en Santiago de Chile
DESCRIPTION:Rockout Festival 2026 en Santiago de Chile\n¡El festival de punk y rock más esperado está de vuelta! El Rockout Festival regresa para remecer la capital con su cuarta edición el próximo 25 de abril de 2026. Tras sus exitosas versiones anteriores\, el evento vuelve por tercera vez a su casa: el Estadio Santa Laura USEK\, prometiendo una jornada cargada de energía y distorsión. La producción está a cargo de Transistor y las entradas estarán disponibles a partir del lunes 2 de febrero al mediodía a través del sistema Punto Ticket. \nEste primer anuncio ya perfila al festival como uno de los hitos musicales obligatorios del año en Chile. Con un cartel que mezcla leyendas internacionales del punk con destacados exponentes de la escena en español y el talento nacional\, el Rockout se consolida como el epicentro de la cultura alternativa. Mantente atento\, ya que en las próximas semanas se revelará el cartel completo con un segundo y último anuncio de bandas confirmadas. \n\nPrimeros Confirmados: Leyendas en el Santa Laura\nEl cartel de esta edición 2026 arranca con nombres de peso mundial que garantizan una convocatoria masiva: \n\n\nBad Religion: Los padres del punk rock melódico regresan a Chile para demostrar por qué siguen siendo referentes absolutos tras décadas de trayectoria. \n\n\nEvaristo (Show Especial): El icónico líder de La Polla Records presentará un set especial que incluye los mejores hits de su banda madre junto a lo más destacado de sus proyectos posteriores como Gatillazo y Tropa do Carallo. \n\n\nDoyle: El legendario guitarrista de Misfits\, Doyle Wolfgang von Frankenstein\, traerá toda la potencia y estética del horror punk al escenario de Independencia. \n\n\nPunk en Español y Talento Nacional\nLa jornada también contará con una fuerte presencia de bandas que son instituciones en el circuito hispanoparlante y local: \n\n\nEterna Inocencia y Non Servium: Dos de las bandas más queridas del punk en español se suman a esta primera tanda para encender el mosh en el estadio. \n\n\nSkaparapid: Aportarán el dinamismo y los ritmos acelerados para mantener la energía al máximo. \n\n\nTenemos Explosivos y Mano de Obra: El combo nacional sacará la cara por el rock chileno\, demostrando la vigencia y fuerza sonora de la escena local. \n\n\n\nCoordenadas y Venta de Entradas\nPrepárate para vivir una experiencia única de rock y camaradería en uno de los recintos con más historia del fútbol y la música en Santiago. Las coordenadas son las siguientes: \n\n\nFecha: 25 de abril de 2026. \n\n\nLugar: Estadio Santa Laura USEK\, Santiago de Chile. \n\n\nInicio de venta: Lunes 2 de febrero\, 12:00 horas (mediodía). \n\n\nSistema oficial: Punto Ticket. \n\n\n¡Asegura tu entrada y sé parte del regreso más potente del 2026!. \n¿A quién veremos el próximo 25 de abril en el Estadio Santa Laura para vivir el Rockout Festival en 2026 en Santiago de Chile ?.
URL:https://iguanasong.com/calendario/rockout-festival-2026-en-santiago-de-chile/
LOCATION:Estadio Santa Laura
CATEGORIES:Punk,Rock
ATTACH;FMTTYPE=image/jpeg:https://iguanasong.com/wp-content/uploads/2026/01/rockout-scaled.jpg
END:VEVENT
END:VCALENDAR