BEGIN:VCALENDAR
VERSION:2.0
PRODID:-// - ECPv6.15.20//NONSGML v1.0//EN
CALSCALE:GREGORIAN
METHOD:PUBLISH
X-ORIGINAL-URL:https://iguanasong.com
X-WR-CALDESC:Eventos para 
REFRESH-INTERVAL;VALUE=DURATION:PT1H
X-Robots-Tag:noindex
X-PUBLISHED-TTL:PT1H
BEGIN:VTIMEZONE
TZID:America/Santiago
BEGIN:STANDARD
TZOFFSETFROM:-0300
TZOFFSETTO:-0400
TZNAME:-04
DTSTART:20250406T030000
END:STANDARD
BEGIN:DAYLIGHT
TZOFFSETFROM:-0400
TZOFFSETTO:-0300
TZNAME:-03
DTSTART:20250907T040000
END:DAYLIGHT
BEGIN:STANDARD
TZOFFSETFROM:-0300
TZOFFSETTO:-0400
TZNAME:-04
DTSTART:20260405T030000
END:STANDARD
BEGIN:DAYLIGHT
TZOFFSETFROM:-0400
TZOFFSETTO:-0300
TZNAME:-03
DTSTART:20260906T040000
END:DAYLIGHT
BEGIN:STANDARD
TZOFFSETFROM:-0300
TZOFFSETTO:-0400
TZNAME:-04
DTSTART:20270404T030000
END:STANDARD
BEGIN:DAYLIGHT
TZOFFSETFROM:-0400
TZOFFSETTO:-0300
TZNAME:-03
DTSTART:20270905T040000
END:DAYLIGHT
END:VTIMEZONE
BEGIN:VEVENT
DTSTART;VALUE=DATE:20260411
DTEND;VALUE=DATE:20260412
DTSTAMP:20260421T071144
CREATED:20260406T230143Z
LAST-MODIFIED:20260406T230143Z
UID:33468-1775865600-1775951999@iguanasong.com
SUMMARY:Hijos de Satán S.A. estrena su primer EP 
DESCRIPTION:Con show en Santiago:\nHijos de Satán S.A.\nestrena su primer EP\nEl próximo sábado 11 de abril a las 20:30 horas\, Hijos de Satán S.A. estrena su primer EP  «Hijos de Satán S.A. Parte I» en Warehouse\, ubicado en Condell 1786\, esquina Sucre\, en la comuna de Ñuñoa. La jornada se plantea como un hito para la banda\, en un show en vivo que busca traducir toda la intensidad de su propuesta sonora y conceptual al escenario. \nLa noche contará con la participación de la banda de rock y metal latino MASO\, quienes serán los encargados de abrir el evento presentando un adelanto de su próximo disco. Además\, el evento incluirá venta de merchandising oficial\, con disponibilidad de CDs y poleras de la banda. Las entradas ya se encuentran disponibles y tienen un valor de $7.000 (+ costo por servicio) por sistema Ticket Digital. \nEn este contexto\, el nuevo trabajo de Hijos de Satán S:A. reúne tres canciones que construyen una narrativa coherente desde la oscuridad\, la ironía y la crítica social\, a través de las cuales abordan temáticas como el poder\, la corrupción y la degradación moral\, utilizando un lenguaje directo y provocador. \n \nLa grabación del EP se llevó a cabo en Estudios Paloquemado\, en Santiago de Chile\, con la ingeniería de Matías Carril y Nicolás Ríos\, y la mezcla a cargo de Santiago Campos Kasic. El resultado es un sonido compacto y frontal\, que refleja la energía que el grupo despliega en sus presentaciones en vivo. \nHijos de Satán S.A. es un power trío formado en 2023\, integrado por Chairman en bajo y voz principal\, C.E.O. en guitarra y coros\, y V.P. en percusiones y coros. Su propuesta combina rock\, hardcore punk y metal alternativo en una puesta en escena performática\, caracterizada por su intensidad\, su identidad visual y una relación directa con el público.
URL:https://iguanasong.com/calendario/hijos-de-satan-primer-ep/
LOCATION:Warehouse\, Condel 1786\, Santiago\, Ñuñoa\, Chile
CATEGORIES:Metal,Punk
ATTACH;FMTTYPE=image/jpeg:https://iguanasong.com/wp-content/uploads/2026/04/Flyer-Lanzamiento-EP-scaled.jpeg
END:VEVENT
END:VCALENDAR