BEGIN:VCALENDAR
VERSION:2.0
PRODID:-// - ECPv6.15.20//NONSGML v1.0//EN
CALSCALE:GREGORIAN
METHOD:PUBLISH
X-ORIGINAL-URL:https://iguanasong.com
X-WR-CALDESC:Eventos para 
REFRESH-INTERVAL;VALUE=DURATION:PT1H
X-Robots-Tag:noindex
X-PUBLISHED-TTL:PT1H
BEGIN:VTIMEZONE
TZID:America/Santiago
BEGIN:STANDARD
TZOFFSETFROM:-0300
TZOFFSETTO:-0400
TZNAME:-04
DTSTART:20250406T030000
END:STANDARD
BEGIN:DAYLIGHT
TZOFFSETFROM:-0400
TZOFFSETTO:-0300
TZNAME:-03
DTSTART:20250907T040000
END:DAYLIGHT
BEGIN:STANDARD
TZOFFSETFROM:-0300
TZOFFSETTO:-0400
TZNAME:-04
DTSTART:20260405T030000
END:STANDARD
BEGIN:DAYLIGHT
TZOFFSETFROM:-0400
TZOFFSETTO:-0300
TZNAME:-03
DTSTART:20260906T040000
END:DAYLIGHT
BEGIN:STANDARD
TZOFFSETFROM:-0300
TZOFFSETTO:-0400
TZNAME:-04
DTSTART:20270404T030000
END:STANDARD
BEGIN:DAYLIGHT
TZOFFSETFROM:-0400
TZOFFSETTO:-0300
TZNAME:-03
DTSTART:20270905T040000
END:DAYLIGHT
END:VTIMEZONE
BEGIN:VEVENT
DTSTART;VALUE=DATE:20260405
DTEND;VALUE=DATE:20260406
DTSTAMP:20260421T072239
CREATED:20260108T173654Z
LAST-MODIFIED:20260108T173654Z
UID:31933-1775347200-1775433599@iguanasong.com
SUMMARY:Olga Tañón en Santiago de Chile
DESCRIPTION:Olga Tañón en Santiago de Chile\nLa «Mujer de Fuego» Olga Tañón regresa para encender los escenarios en Santiago de Chile. La icónica artista puertorriqueña presenta su gira mundial titulada «Hay Ke Ser Feliz Tour 2025». La cita musical con el merengue y el pop latino ocurrirá el próximo 5 de abril. El encuentro comenzará a las 20:00 horas en una jornada que promete baile y alegría desbordante. El prestigioso Movistar Arena recibe a la estrella para celebrar su vasta trayectoria con el público local. Olga Tañón garantiza un espectáculo de primer nivel lleno de energía\, ritmo y un mensaje de optimismo para todos sus fanáticos. \nDetalles de Entradas\nSi deseas ser parte de esta fiesta tropical\, presta atención a los siguientes puntos informativos: \n\n\nEl concierto se llevará a cabo en el Movistar Arena de Santiago. \n\n\nLa presentación está programada para el día sábado 5 de abril. \n\n\nEl inicio del show está fijado para las 20:00 hrs. \n\n\nReseña del Artista\nOlga Tañón destaca como una de las voces más poderosas y versátiles de la música latina. Nacida en Puerto Rico\, la cantante conquistó el mundo con su dominio impecable del merengue y el pop. Su carrera despegó en la década de los 90\, acumulando rápidamente múltiples premios Grammy y Latin Grammy. La crítica la denomina la «Mujer de Fuego» debido a su arrolladora presencia escénica y su capacidad para cautivar a multitudes. Su estilo combina ritmos caribeños vibrantes con baladas románticas que han marcado a varias generaciones. \nLa trayectoria de la artista incluye éxitos históricos que dominaron las listas de popularidad durante años. Canciones inolvidables como «Es Mentiroso»\, «Muchacho Malo» y «Basta Ya» se mantienen vigentes como himnos de la música tropical. Olga también resalta por su labor humanitaria y su constante evolución sonora en la industria musical. Su actual gira «Hay Ke Ser Feliz» refleja su filosofía de vida actual\, centrada en la gratitud y la celebración. La intérprete sigue rompiendo récords de audiencia\, consolidándose como una leyenda viva que mantiene su voz y energía en su punto más alto. \nUna noche para celebrar la felicidad\nEste evento representa la oportunidad perfecta para disfrutar de un espectáculo cargado de calidad vocal y coreografías impactantes. El Movistar Arena brinda el confort y la tecnología necesaria para vivir una experiencia inmersiva junto a la estrella. La propuesta de Olga Tañón invita a dejar atrás las preocupaciones y conectar con la música que celebra la vida. No pierdas la oportunidad de ver a una de las artistas más premiadas de la historia latina en su mejor momento. \n¿A quién veremos el próximo 5 de abril en el Movistar Arena para ver a Olga Tañón en Santiago de Chile?.
URL:https://iguanasong.com/calendario/olga-tanon-en-santiago-de-chile/
LOCATION:Movistar Arena\, Santiago\, Chile
CATEGORIES:Merengue
ATTACH;FMTTYPE=image/jpeg:https://iguanasong.com/wp-content/uploads/2026/01/olga_tanon_chile-scaled.jpg
END:VEVENT
END:VCALENDAR