BEGIN:VCALENDAR
VERSION:2.0
PRODID:-// - ECPv6.15.20//NONSGML v1.0//EN
CALSCALE:GREGORIAN
METHOD:PUBLISH
X-ORIGINAL-URL:https://iguanasong.com
X-WR-CALDESC:Eventos para 
REFRESH-INTERVAL;VALUE=DURATION:PT1H
X-Robots-Tag:noindex
X-PUBLISHED-TTL:PT1H
BEGIN:VTIMEZONE
TZID:America/Santiago
BEGIN:STANDARD
TZOFFSETFROM:-0300
TZOFFSETTO:-0400
TZNAME:-04
DTSTART:20250406T030000
END:STANDARD
BEGIN:DAYLIGHT
TZOFFSETFROM:-0400
TZOFFSETTO:-0300
TZNAME:-03
DTSTART:20250907T040000
END:DAYLIGHT
BEGIN:STANDARD
TZOFFSETFROM:-0300
TZOFFSETTO:-0400
TZNAME:-04
DTSTART:20260405T030000
END:STANDARD
BEGIN:DAYLIGHT
TZOFFSETFROM:-0400
TZOFFSETTO:-0300
TZNAME:-03
DTSTART:20260906T040000
END:DAYLIGHT
BEGIN:STANDARD
TZOFFSETFROM:-0300
TZOFFSETTO:-0400
TZNAME:-04
DTSTART:20270404T030000
END:STANDARD
BEGIN:DAYLIGHT
TZOFFSETFROM:-0400
TZOFFSETTO:-0300
TZNAME:-03
DTSTART:20270905T040000
END:DAYLIGHT
END:VTIMEZONE
BEGIN:VEVENT
DTSTART;VALUE=DATE:20260327
DTEND;VALUE=DATE:20260328
DTSTAMP:20260421T083423
CREATED:20260112T141002Z
LAST-MODIFIED:20260112T141002Z
UID:32004-1774569600-1774655999@iguanasong.com
SUMMARY:Muerdo en Santiago de Chile
DESCRIPTION:Muerdo en Santiago de Chile\nEl talentoso cantautor murciano » Muerdo » regresa para cautivar a su audiencia en Santiago de Chile. El artista presenta su «Gira 2026»\, titulada de forma sugerente «Volver donde nacen las canciones». La esperada cita con Muerdo en Santiago de Chile ocurrirá el próximo viernes 27 de marzo. El encuentro tendrá lugar en el emblemático Club Chocolate\, ubicado en el corazón del Barrio Bellavista. La apertura de puertas iniciará a las 20:00 horas\, mientras que el inicio del show está programado para las 21:00 horas. Este concierto promete ser una velada íntima y potente donde la canción de autor se encontrará con ritmos mestizos. \n\nDetalles de Entradas\nSi deseas asegurar tu lugar para disfrutar del directo de Muerdo\, presta atención a la siguiente información: \n\n\nEl concierto se llevará a cabo el viernes 27 de marzo de 2026. \n\n\nEl lugar del evento es el Club Chocolate. \n\n\nLas entradas se encuentran disponibles a través del sistema oficial Passline. \n\n\nEl show es exclusivo para mayores de 18 años. \n\n\n\nReseña del Artista\nPascual Cantero\, conocido artísticamente como Muerdo\, destaca como una de las voces más singulares y necesarias de la música española actual. Originario de Murcia\, el artista ha sabido construir un puente sonoro entre su tierra natal y Latinoamérica a través de letras cargadas de lírica social y espiritualidad. Su propuesta musical es un crisol donde conviven el pop\, el folclore\, el reggae y la música urbana\, siempre bajo el paraguas de la canción de autor. A lo largo de su carrera\, ha colaborado con grandes figuras internacionales\, consolidando un mensaje de unidad y conciencia que resuena profundamente en el público hispanohablante. \nLa trayectoria de Muerdo incluye álbumes fundamentales como Viento Sur y La Sangre del Mundo\, trabajos que lo han llevado a recorrer los escenarios más importantes de Iberoamérica. Sus canciones se caracterizan por una poesía directa que invita a la reflexión y a la celebración de la vida. El artista resalta por su calidez escénica y una capacidad única para conectar con las emociones más básicas del espectador. Su gira «Volver donde nacen las canciones» representa un ejercicio de introspección y madurez\, donde busca despojar a sus composiciones de lo superfluo para llegar a su esencia más pura. \n\nUna noche de reencuentro y poesía\nEste concierto representa la oportunidad ideal para vivir la evolución artística de Muerdo en un formato que favorece la proximidad con el público. El Club Chocolate brinda el escenario perfecto para apreciar los matices instrumentales y la fuerza vocal del murciano en una jornada de viernes imperdible. La propuesta de esta gira invita a los seguidores a un viaje introspectivo a través de melodías que han marcado el camino del cantautor durante la última década. No dejes pasar la oportunidad de adquirir tus entradas y ser parte de esta experiencia musical llena de sentido y color. \n¿A quién veremos el próximo 27 de marzo en el Club Chocolate para ver a Muerdo en Santiago de Chile?
URL:https://iguanasong.com/calendario/muerdo-en-santiago-de-chile/
LOCATION:Club Chocolate\, Santiago\, Chile
CATEGORIES:Canta Autor
ATTACH;FMTTYPE=image/jpeg:https://iguanasong.com/wp-content/uploads/2026/01/muerdo_chile-scaled.jpg
END:VEVENT
END:VCALENDAR