BEGIN:VCALENDAR
VERSION:2.0
PRODID:-// - ECPv6.15.20//NONSGML v1.0//EN
CALSCALE:GREGORIAN
METHOD:PUBLISH
X-ORIGINAL-URL:https://iguanasong.com
X-WR-CALDESC:Eventos para 
REFRESH-INTERVAL;VALUE=DURATION:PT1H
X-Robots-Tag:noindex
X-PUBLISHED-TTL:PT1H
BEGIN:VTIMEZONE
TZID:America/Santiago
BEGIN:STANDARD
TZOFFSETFROM:-0300
TZOFFSETTO:-0400
TZNAME:-04
DTSTART:20250406T030000
END:STANDARD
BEGIN:DAYLIGHT
TZOFFSETFROM:-0400
TZOFFSETTO:-0300
TZNAME:-03
DTSTART:20250907T040000
END:DAYLIGHT
BEGIN:STANDARD
TZOFFSETFROM:-0300
TZOFFSETTO:-0400
TZNAME:-04
DTSTART:20260405T030000
END:STANDARD
BEGIN:DAYLIGHT
TZOFFSETFROM:-0400
TZOFFSETTO:-0300
TZNAME:-03
DTSTART:20260906T040000
END:DAYLIGHT
BEGIN:STANDARD
TZOFFSETFROM:-0300
TZOFFSETTO:-0400
TZNAME:-04
DTSTART:20270404T030000
END:STANDARD
BEGIN:DAYLIGHT
TZOFFSETFROM:-0400
TZOFFSETTO:-0300
TZNAME:-03
DTSTART:20270905T040000
END:DAYLIGHT
END:VTIMEZONE
BEGIN:VEVENT
DTSTART;VALUE=DATE:20260322
DTEND;VALUE=DATE:20260323
DTSTAMP:20260421T083423
CREATED:20260123T180342Z
LAST-MODIFIED:20260317T144907Z
UID:32127-1774137600-1774223999@iguanasong.com
SUMMARY:The Adicts en Santiago de Chile
DESCRIPTION:The Adicts en Santiago de Chile\nLa llegada de The Adicts a Santiago de Chile es una realidad confirmada para todos los seguidores del punk rock más legendario y festivo. La emblemática banda británica aterrizará en la capital el próximo 20 de marzo de 2026 para ofrecer un espectáculo de alta intensidad en el Teatro Coliseo. Esta esperada presentación forma parte de su gira mundial «Adiós Amigos Tour»\, la cual promete ser uno de los hitos del género este año. Los fanáticos pueden asegurar sus tickets de manera oficial a través del sistema Punto Ticket. \nEste concierto representa una oportunidad única para presenciar la energía incombustible de una agrupación con más de cuatro décadas de historia. La productora Transistor organiza este encuentro en el recinto de la calle Nataniel Cox\, un lugar que garantiza una conexión directa entre los músicos y el público. La estética inspirada en La Naranja Mecánica y el carisma de sus integrantes llenarán de color el escenario del Teatro Coliseo. Asegura tu entrada pronto\, ya que el legado de los «Droogs» proyecta un lleno absoluto en esta nueva visita a territorio nacional. \nReseña del Artista\nThe Adicts destaca como una de las bandas más distintivas y duraderas de la escena punk británica surgida a finales de los años setenta. Formados en Ipswich\, Inglaterra\, el grupo liderado por el carismático Keith «Monkey» Warren se diferenció rápidamente de sus contemporáneos por su propuesta visual única y sus letras optimistas. A diferencia del punk más nihilista de la época\, ellos incorporaron elementos del rock and roll clásico y el pop\, creando un sonido pegajoso que ellos mismos denominan como «punk alegre». Su imagen\, basada en los personajes de la película de Stanley Kubrick\, se ha convertido en un ícono global del género. \nLa trayectoria de la agrupación resalta por álbumes fundamentales como Songs of Praise y Sound of Music\, los cuales contienen himnos que han sobrevivido al paso de las décadas. Canciones como «Viva la Revolution»\, «Bad Boy» y «Joker in the Pack» son piezas indispensables en sus conciertos\, reconocidos por el uso de confeti\, serpentinas y una interacción constante con la audiencia. A lo largo de su carrera\, han mantenido a gran parte de su alineación original\, lo que les permite conservar una química impecable sobre el escenario. Con 45 años de trayectoria\, The Adicts sigue demostrando que el espíritu de la revolución puede ser\, al mismo tiempo\, una gran celebración. \nUna despedida cargada de energía punk\nEl «Adiós Amigos Tour» llega a Santiago para repasar los éxitos que han definido la identidad visual y sonora de miles de seguidores en Chile. La banda presentará una ejecución vibrante\, donde la teatralidad de Monkey y la potencia rítmica del conjunto crearán una atmósfera de carnaval punk inolvidable. El show en el Teatro Coliseo será el epicentro de la nostalgia y la rebeldía\, ofreciendo una experiencia sensorial completa para los fanáticos de todas las generaciones. Esta fecha se perfila como una de las más importantes para el rock independiente internacional durante el primer semestre de 2026. \nConsigue tus entradas en Punto Ticket y prepárate para una jornada de ritmos acelerados y diversión garantizada. La invitación está abierta para vivir el despliegue escénico de una banda que ha hecho del espectáculo una forma de resistencia cultural. El Teatro Coliseo vibrará con el grito de «Viva la Revolution» el próximo 20 de marzo. ¡No te quedes fuera de este encuentro histórico con el legado de The Adicts en nuestro país!. \n¿A quién veremos el próximo 22 de marzo en el Teatro Coliseo para ver a The Adicts en Santiago de Chile?.
URL:https://iguanasong.com/calendario/the-adicts-en-santiago-de-chile/
LOCATION:Teatro Coliseo\, Santiago\, Chile
CATEGORIES:Punk
ATTACH;FMTTYPE=image/jpeg:https://iguanasong.com/wp-content/uploads/2026/01/the_adicts_chile-scaled.jpg
END:VEVENT
END:VCALENDAR