BEGIN:VCALENDAR
VERSION:2.0
PRODID:-// - ECPv6.15.20//NONSGML v1.0//EN
CALSCALE:GREGORIAN
METHOD:PUBLISH
X-ORIGINAL-URL:https://iguanasong.com
X-WR-CALDESC:Eventos para 
REFRESH-INTERVAL;VALUE=DURATION:PT1H
X-Robots-Tag:noindex
X-PUBLISHED-TTL:PT1H
BEGIN:VTIMEZONE
TZID:America/Santiago
BEGIN:STANDARD
TZOFFSETFROM:-0300
TZOFFSETTO:-0400
TZNAME:-04
DTSTART:20250406T030000
END:STANDARD
BEGIN:DAYLIGHT
TZOFFSETFROM:-0400
TZOFFSETTO:-0300
TZNAME:-03
DTSTART:20250907T040000
END:DAYLIGHT
BEGIN:STANDARD
TZOFFSETFROM:-0300
TZOFFSETTO:-0400
TZNAME:-04
DTSTART:20260405T030000
END:STANDARD
BEGIN:DAYLIGHT
TZOFFSETFROM:-0400
TZOFFSETTO:-0300
TZNAME:-03
DTSTART:20260906T040000
END:DAYLIGHT
BEGIN:STANDARD
TZOFFSETFROM:-0300
TZOFFSETTO:-0400
TZNAME:-04
DTSTART:20270404T030000
END:STANDARD
BEGIN:DAYLIGHT
TZOFFSETFROM:-0400
TZOFFSETTO:-0300
TZNAME:-03
DTSTART:20270905T040000
END:DAYLIGHT
END:VTIMEZONE
BEGIN:VEVENT
DTSTART;VALUE=DATE:20260315
DTEND;VALUE=DATE:20260316
DTSTAMP:20260421T083421
CREATED:20260106T170255Z
LAST-MODIFIED:20260106T170255Z
UID:31891-1773532800-1773619199@iguanasong.com
SUMMARY:AC/DC en Santiago de Chile
DESCRIPTION:AC/DC en Chile: El «PWR UP Tour» llega al Estadio Nacional con dos fechas\nLa legendaria banda de rock AC/DC sacudirá Santiago de Chile con su esperado regreso a los escenarios. Los australianos aterrizan en Chile con su nueva gira mundial titulada «PWR UP Tour». Este evento representa uno de los hitos musicales más importantes de la década para los fanáticos del rock duro. La energía de Angus Young y compañía promete encender la capital en un espectáculo de proporciones épicas. \nEl grupo ofrecerá dos conciertos masivos en el Parque Estadio Nacional. Las citas programadas son el 11 y 15 de marzo de 2026. Este recinto histórico recibirá a miles de personas para celebrar el legado de una de las bandas más grandes de la historia. Además\, la banda Reckless participará como invitada especial en ambas jornadas. \nDetalles de entradas y beneficios exclusivos\nLa productora DG Medios organiza estas presentaciones junto a Live Nation. El sistema Ticketmaster estará a cargo de la venta oficial de entradas. Las empresas Entel y Santander presentan oficialmente este tour en Chile. Los clientes de estas entidades suelen acceder a beneficios y preventas especiales para asegurar su lugar en el estadio. Se recomienda a los seguidores estar atentos a las plataformas oficiales para no perderse ninguna actualización sobre los precios. \nReseña de la banda: El legado indestructible de AC/DC\nAC/DC es sinónimo de rock and roll puro y sin concesiones. Desde su formación en 1973\, la banda ha vendido más de 200 millones de álbumes en todo el mundo. Su estilo se caracteriza por riffs de guitarra potentes\, una base rítmica sólida y voces inconfundibles. Ellos han influenciado a innumerables artistas y mantienen una base de seguidores que atraviesa todas las generaciones. \nEl álbum Back in Black sigue siendo uno de los discos más vendidos de todos los tiempos. Canciones como «Highway to Hell»\, «Thunderstruck» y «You Shook Me All Night Long» son himnos universales que resuenan en cada estadio que pisan. AC/DC destaca por su puesta en escena electrizante\, protagonizada por el eterno uniforme escolar de Angus Young y una producción visual imponente. Su regreso a Chile con el tour «PWR UP» confirma que la llama del rock sigue más viva que nunca. \nUna experiencia histórica en el Estadio Nacional\nEl Estadio Nacional se prepara para recibir una logística de nivel mundial. El espectáculo incluirá un despliegue técnico impresionante con pantallas gigantes y un sonido demoledor. Los asistentes vivirán dos noches inolvidables bajo el cielo de Santiago en marzo de 2026. No pierdas la oportunidad de ver a estas leyendas vivas en su mejor forma. La combinación de clásicos eternos y nuevas canciones asegura una atmósfera vibrante y llena de adrenalina. Chile reafirma su posición como una parada obligatoria para las giras de rock más grandes del planeta. Estas listo para AC/DC en Santiago de Chile?
URL:https://iguanasong.com/calendario/ac-dc-en-santiago-de-chile/
LOCATION:Parque Estadio Nacional
CATEGORIES:Metal,Power Metal,Rock
ATTACH;FMTTYPE=image/png:https://iguanasong.com/wp-content/uploads/2026/01/acdc_chile-scaled.png
END:VEVENT
BEGIN:VEVENT
DTSTART;VALUE=DATE:20260315
DTEND;VALUE=DATE:20260316
DTSTAMP:20260421T083421
CREATED:20260107T150411Z
LAST-MODIFIED:20260107T150411Z
UID:31916-1773532800-1773619199@iguanasong.com
SUMMARY:Lollapalooza Chile 2026 (Día 3)
DESCRIPTION:Lollapalooza Chile 2026 (Día 3) en Santiago de Chile\nLa decimoquinta edición del festival más esperado del país llega a su gran final en Santiago de Chile. El cierre de Lollapalooza Chile 2026 (Día 3) promete una jornada cargada de emociones y ritmos globales en la capital. El evento ocurrirá el próximo domingo 15 de marzo en un ambiente de celebración masiva. La productora Lotus organiza este hito cultural que despide su aniversario número quince por todo lo alto. Para esta despedida\, el festival utiliza nuevamente los diversos escenarios del Parque O’Higgins. \nDetalles de Entradas\nSi deseas asistir al último día del festival\, recuerda el canal oficial para comprar tus boletos: \n\n\nLas entradas oficiales están disponibles únicamente a través de la plataforma Ticketmaster.cl. \n\n\nReseña de los Artistas: Los platos fuertes del domingo\nLa cartelera de clausura presenta a tres figuras que dominan las tendencias actuales y que cerrarán los escenarios principales. Chappell Roan llega como la gran revelación del pop estadounidense\, conquistando al mundo con su estética «drag-pop» y una voz prodigiosa. Su estilo mezcla el pop de los 80 con una teatralidad moderna que ha generado un fenómeno de culto global. Ella debuta en Santiago como una de las artistas más solicitadas por el público joven chileno. \nPor su parte\, Skrillex regresa a Chile convertido en una leyenda viviente de la música electrónica. El productor estadounidense revolucionó el dubstep y actualmente lidera la vanguardia del sonido club global con sus recientes lanzamientos. Finalmente\, el cantautor escocés Lewis Capaldi trae la cuota de emoción y baladas profundas al festival. Con una voz poderosa y una personalidad carismática\, él ha logrado conectar con millones de personas a través de sus letras honestas. Estos tres artistas aseguran una despedida épica y diversa para el aniversario del festival. \nUn Lineup diverso para el gran cierre\nEl domingo ofrece una programación variada que recorre géneros desde el pop viral hasta el rock alternativo. El cartel incluye nombres de impacto internacional como Addison Rae\, Danny Ocean\, Marina y el dúo de techno Brutalismus 3000. También se presentarán artistas innovadores como 2hollis\, Akriila\, TV Girl y el grupo de K-pop Riize. La cuota bailable estará a cargo de Hamdi\, Mau y Ricky y los sonidos indie de Bandalos Chinos. \nLa jornada contará además con el talento nacional de Manuel García\, Quilapayún y 2 Minutos. El festival da espacio a propuestas únicas como Joaquina\, Caleb Calloway\, Facebrooklyn y Claudio Valenzuela Trío. El cierre definitivo de esta edición lo completan Cristóbal Briceño y Grupo Crisis\, Santo Barrio\, Anttonias\, Mauricio Hernandez\, Hesse Kassel\, Niebla Niebla\, Rootz HiFi\, La Caravana Magica\, Miss Javi\, Los Borne\, Tikitiklip\, Caleuchístico y Otroarte. \n¿A quién veremos el próximo domingo 15 de marzo en el Parque O’Higgins para ver a Lollapalooza Chile 2026 en Santiago de Chile?
URL:https://iguanasong.com/calendario/lollapalooza-chile-2026-dia-3/
LOCATION:Parque O’Higgins\, Avenida Beauchef 398\, Santiago\, Chile
CATEGORIES:Pop,Pop Rock,Reggae,Rock
ATTACH;FMTTYPE=image/jpeg:https://iguanasong.com/wp-content/uploads/2026/01/lollapalooza_dia_3-scaled.jpg
END:VEVENT
BEGIN:VEVENT
DTSTART;VALUE=DATE:20260315
DTEND;VALUE=DATE:20260316
DTSTAMP:20260421T083422
CREATED:20260129T181626Z
LAST-MODIFIED:20260129T181626Z
UID:32248-1773532800-1773619199@iguanasong.com
SUMMARY:CL.PROG Festival 2026 en Santiago
DESCRIPTION:CL.PROG Festival 2026 en Santiago\nEl festival de vanguardia más importante de América Latina CL.PROG Festival 2026 en Santiago ya tiene su programación definitiva. Tras la confirmación de la legendaria banda Atheist y el traslado al nuevo espacio en la Aldea del Encuentro\, en la comuna de La Reina\, el CL.PROG se prepara para dos jornadas de virtuosismo y experimentación este 14 y 15 de marzo. Las entradas y abonos finales ya se encuentran disponibles a través del sistema Passline. \nEste evento destaca por reunir a los exponentes más innovadores del metal y rock progresivo mundial en un entorno único. Con una curatoría que apuesta por la complejidad técnica y las atmósferas envolventes\, el festival promete ser un hito para los seguidores del género en el Cono Sur. Los pases diarios tienen un valor de $65.000\, mientras que el stock final de abonos para ambos días se encuentra a $115.000 (más cargos por servicio). \n\nProgramación por día\nLa organización ha revelado el cartel detallado para que los asistentes puedan planificar su experiencia en la Aldea del Encuentro: \nSábado 14 de marzo \n\n\nThank You Scientist: Fusión ecléctica de jazz\, rock y pop progresivo. \n\n\nWheel: El potente sonido del metal progresivo finlandés. \n\n\nEarthside: Paisajes sonoros cinemáticos y colaborativos. \n\n\nVulkan: Propuesta vanguardista cargada de energía y texturas. \n\n\nDomingo 15 de marzo \n\n\nVOLA: El esperado regreso del cuarteto danés con su mezcla de groove y sintetizadores. \n\n\nAtheist: Los padres del death metal técnico aterrizan con su complejidad rítmica inigualable. \n\n\nIntrascendence: Representantes de la técnica y el metal extremo. \n\n\nNuvian: Sonidos emergentes de alta factura técnica. \n\n\n\nVanguardia en La Reina\nEl cambio de locación a la Aldea del Encuentro busca ofrecer una experiencia más inmersiva y cómoda para los seguidores de la música progresiva. El recinto permitirá disfrutar de la calidad sonora de bandas como Vulkan y Earthside en una jornada sabatina intensa\, para luego dar paso a la potencia de VOLA y la técnica histórica de Atheist el domingo. \nAsegura tus tickets en Passline y prepárate para ser parte de la historia del rock de vanguardia en Chile. La invitación está hecha para vivir dos días de exploración musical sin límites en el corazón de Santiago. ¡No te quedes fuera del evento que define el sonido del futuro en nuestra región!. \n¿A quién veremos el 14 y 15 de marzo en la Aldea del Encuentro para vivir el CL.PROG Festival?.
URL:https://iguanasong.com/calendario/cl-prog-festival-2026-en-santiago-2/
LOCATION:Aldea del Encuentro\, Av. Alcalde Fernando Castillo Velasco 9750\, 7860252 La Reina\, Región Metropolitana\, Santiago
CATEGORIES:Rock Progresivo
ATTACH;FMTTYPE=image/jpeg:https://iguanasong.com/wp-content/uploads/2026/01/clprog-scaled.jpg
END:VEVENT
END:VCALENDAR