BEGIN:VCALENDAR
VERSION:2.0
PRODID:-// - ECPv6.15.20//NONSGML v1.0//EN
CALSCALE:GREGORIAN
METHOD:PUBLISH
X-ORIGINAL-URL:https://iguanasong.com
X-WR-CALDESC:Eventos para 
REFRESH-INTERVAL;VALUE=DURATION:PT1H
X-Robots-Tag:noindex
X-PUBLISHED-TTL:PT1H
BEGIN:VTIMEZONE
TZID:America/Santiago
BEGIN:STANDARD
TZOFFSETFROM:-0300
TZOFFSETTO:-0400
TZNAME:-04
DTSTART:20250406T030000
END:STANDARD
BEGIN:DAYLIGHT
TZOFFSETFROM:-0400
TZOFFSETTO:-0300
TZNAME:-03
DTSTART:20250907T040000
END:DAYLIGHT
BEGIN:STANDARD
TZOFFSETFROM:-0300
TZOFFSETTO:-0400
TZNAME:-04
DTSTART:20260405T030000
END:STANDARD
BEGIN:DAYLIGHT
TZOFFSETFROM:-0400
TZOFFSETTO:-0300
TZNAME:-03
DTSTART:20260906T040000
END:DAYLIGHT
BEGIN:STANDARD
TZOFFSETFROM:-0300
TZOFFSETTO:-0400
TZNAME:-04
DTSTART:20270404T030000
END:STANDARD
BEGIN:DAYLIGHT
TZOFFSETFROM:-0400
TZOFFSETTO:-0300
TZNAME:-03
DTSTART:20270905T040000
END:DAYLIGHT
END:VTIMEZONE
BEGIN:VEVENT
DTSTART;VALUE=DATE:20260314
DTEND;VALUE=DATE:20260315
DTSTAMP:20260421T091220
CREATED:20260107T145934Z
LAST-MODIFIED:20260107T145934Z
UID:31913-1773446400-1773532799@iguanasong.com
SUMMARY:Lollapalooza Chile 2026 (Día 2)
DESCRIPTION:Lollapalooza Chile 2026 (Día 2) en Santiago de Chile\nLa decimoquinta edición del festival más grande del país continúa su marcha con un Lollapalooza Chile 2026 (Día 2) que promete ser histórica en Santiago de Chile. El evento se llevará a cabo el próximo sábado 14 de marzo en un ambiente de celebración total. La productora Lotus organiza este mega evento que regresa a su hogar tradicional después de varios años. En esta ocasión\, el festival se apodera nuevamente del Parque O’Higgins para ofrecer una experiencia inolvidable a todos sus asistentes. \nDetalles de Entradas\nPara no quedarte fuera de este segundo día de música\, recuerda el punto clave para adquirir tus tickets: \n\n\nLas entradas oficiales están disponibles únicamente a través de la plataforma Ticketmaster.cl. \n\n\nReseña de los Artistas: Los platos fuertes del sábado\nLa cartelera del sábado destaca por reunir a figuras influyentes que dominan el panorama musical global y nacional. Tyler\, The Creator encabeza la jornada con su debut en Chile\, trayendo una propuesta disruptiva que mezcla hip-hop\, soul y jazz. Por otro lado\, la neozelandesa Lorde regresa al Parque O’Higgins para reencontrarse con el público chileno a través de su pop alternativo y atmosférico. Asimismo\, la banda nacional Los Bunkers asume su rol de headliners\, consolidando su regreso como el grupo de rock más importante de Chile. \nA este grupo de líderes se suma Turnstile\, la banda que ha revolucionado el hardcore a nivel mundial. Originarios de Baltimore\, Estados Unidos\, ellos han logrado romper las barreras del género con un sonido que inyecta energía punk\, ritmos bailables y una estética vibrante. Su álbum Glow On los catapultó a la masividad\, recibiendo múltiples nominaciones al Grammy y elogios de la crítica especializada. Turnstile destaca por sus presentaciones en vivo cargadas de adrenalina\, donde la conexión con el público y la intensidad del mosh pit son los protagonistas. Su presencia en Santiago asegura uno de los cierres más eléctricos y potentes de todo el festival. \nUn Lineup variado de principio a fin\nEl sábado ofrecerá una programación diversa que recorrerá distintos géneros desde las primeras horas del día. El cartel incluye a la DJ surcoreana Peggy Gou con lo mejor de la electrónica actual y al fenómeno latino Danny Ocean. También se presentarán artistas como Katseye\, Orishas\, Royel Otis y la icónica Marina. El punk estará representado por los históricos 2 Minutos\, mientras que Nathy Peluso aportará todo su estilo y potencia vocal. \nLa jornada contará además con el talento de Kidd Voodoo\, Paco Amoroso & Ca7riel\, Fother Muckers y Lara 91k. El festival sigue siendo una plataforma para descubrir proyectos nuevos y bandas con propuestas únicas como Ariel Minimal y Kamo. La variedad sonora del sábado asegura que cada rincón del Parque O’Higgins vibre con diferentes ritmos y estilos. Prepárate para vivir el corazón de Lollapalooza 2026 con algunos de los espectáculos más potentes del año. \n¿A quién veremos el próximo sábado 14 de marzo en el Parque O’Higgins para ver a Lollapalooza Chile 2026 en Santiago de Chile?.
URL:https://iguanasong.com/calendario/lollapalooza-chile-2026-dia-2/
LOCATION:Parque O’Higgins\, Avenida Beauchef 398\, Santiago\, Chile
CATEGORIES:Pop,Pop Rock,Reggae,Rock
ATTACH;FMTTYPE=image/jpeg:https://iguanasong.com/wp-content/uploads/2026/01/lollapalooza_dia_2-scaled.jpg
END:VEVENT
BEGIN:VEVENT
DTSTART;VALUE=DATE:20260314
DTEND;VALUE=DATE:20260315
DTSTAMP:20260421T091220
CREATED:20260129T181552Z
LAST-MODIFIED:20260129T181552Z
UID:32243-1773446400-1773532799@iguanasong.com
SUMMARY:CL.PROG Festival 2026 en Santiago
DESCRIPTION:CL.PROG Festival 2026 en Santiago\nEl festival de vanguardia más importante de América Latina CL.PROG Festival 2026 en Santiago ya tiene su programación definitiva. Tras la confirmación de la legendaria banda Atheist y el traslado al nuevo espacio en la Aldea del Encuentro\, en la comuna de La Reina\, el CL.PROG se prepara para dos jornadas de virtuosismo y experimentación este 14 y 15 de marzo. Las entradas y abonos finales ya se encuentran disponibles a través del sistema Passline. \nEste evento destaca por reunir a los exponentes más innovadores del metal y rock progresivo mundial en un entorno único. Con una curatoría que apuesta por la complejidad técnica y las atmósferas envolventes\, el festival promete ser un hito para los seguidores del género en el Cono Sur. Los pases diarios tienen un valor de $65.000\, mientras que el stock final de abonos para ambos días se encuentra a $115.000 (más cargos por servicio). \n\nProgramación por día\nLa organización ha revelado el cartel detallado para que los asistentes puedan planificar su experiencia en la Aldea del Encuentro: \nSábado 14 de marzo \n\n\nThank You Scientist: Fusión ecléctica de jazz\, rock y pop progresivo. \n\n\nWheel: El potente sonido del metal progresivo finlandés. \n\n\nEarthside: Paisajes sonoros cinemáticos y colaborativos. \n\n\nVulkan: Propuesta vanguardista cargada de energía y texturas. \n\n\nDomingo 15 de marzo \n\n\nVOLA: El esperado regreso del cuarteto danés con su mezcla de groove y sintetizadores. \n\n\nAtheist: Los padres del death metal técnico aterrizan con su complejidad rítmica inigualable. \n\n\nIntrascendence: Representantes de la técnica y el metal extremo. \n\n\nNuvian: Sonidos emergentes de alta factura técnica. \n\n\n\nVanguardia en La Reina\nEl cambio de locación a la Aldea del Encuentro busca ofrecer una experiencia más inmersiva y cómoda para los seguidores de la música progresiva. El recinto permitirá disfrutar de la calidad sonora de bandas como Vulkan y Earthside en una jornada sabatina intensa\, para luego dar paso a la potencia de VOLA y la técnica histórica de Atheist el domingo. \nAsegura tus tickets en Passline y prepárate para ser parte de la historia del rock de vanguardia en Chile. La invitación está hecha para vivir dos días de exploración musical sin límites en el corazón de Santiago. ¡No te quedes fuera del evento que define el sonido del futuro en nuestra región!. \n¿A quién veremos el 14 y 15 de marzo en la Aldea del Encuentro para vivir el CL.PROG Festival?.
URL:https://iguanasong.com/calendario/cl-prog-festival-2026-en-santiago/
LOCATION:Aldea del Encuentro\, Av. Alcalde Fernando Castillo Velasco 9750\, 7860252 La Reina\, Región Metropolitana\, Santiago
CATEGORIES:Rock Progresivo
ATTACH;FMTTYPE=image/jpeg:https://iguanasong.com/wp-content/uploads/2026/01/clprog-scaled.jpg
END:VEVENT
END:VCALENDAR