BEGIN:VCALENDAR
VERSION:2.0
PRODID:-// - ECPv6.15.20//NONSGML v1.0//EN
CALSCALE:GREGORIAN
METHOD:PUBLISH
X-ORIGINAL-URL:https://iguanasong.com
X-WR-CALDESC:Eventos para 
REFRESH-INTERVAL;VALUE=DURATION:PT1H
X-Robots-Tag:noindex
X-PUBLISHED-TTL:PT1H
BEGIN:VTIMEZONE
TZID:America/Santiago
BEGIN:STANDARD
TZOFFSETFROM:-0300
TZOFFSETTO:-0400
TZNAME:-04
DTSTART:20250406T030000
END:STANDARD
BEGIN:DAYLIGHT
TZOFFSETFROM:-0400
TZOFFSETTO:-0300
TZNAME:-03
DTSTART:20250907T040000
END:DAYLIGHT
BEGIN:STANDARD
TZOFFSETFROM:-0300
TZOFFSETTO:-0400
TZNAME:-04
DTSTART:20260405T030000
END:STANDARD
BEGIN:DAYLIGHT
TZOFFSETFROM:-0400
TZOFFSETTO:-0300
TZNAME:-03
DTSTART:20260906T040000
END:DAYLIGHT
BEGIN:STANDARD
TZOFFSETFROM:-0300
TZOFFSETTO:-0400
TZNAME:-04
DTSTART:20270404T030000
END:STANDARD
BEGIN:DAYLIGHT
TZOFFSETFROM:-0400
TZOFFSETTO:-0300
TZNAME:-03
DTSTART:20270905T040000
END:DAYLIGHT
END:VTIMEZONE
BEGIN:VEVENT
DTSTART;VALUE=DATE:20260213
DTEND;VALUE=DATE:20260214
DTSTAMP:20260421T095638
CREATED:20260103T182222Z
LAST-MODIFIED:20260103T182222Z
UID:31836-1770940800-1771027199@iguanasong.com
SUMMARY:The Chemical Brothers: DJ Set 2026 en Espacio Riesco
DESCRIPTION:The Chemical Brothers: DJ Set 2026 en Espacio Riesco\nLa vanguardia de la música electrónica mundial regresa a Santiago con la confirmación de una presentación exclusiva de The Chemical Brothers. El legendario dúo británico aterrizará en el país el próximo 13 de febrero de 2026 para ofrecer un DJ Set de alto impacto en Espacio Riesco\, un recinto que se transformará en el epicentro del baile y la experimentación sonora. \nEl evento\, producido por Red Eyes y HÏST Entertainment\, promete una noche cargada de los ritmos psicodélicos y las líneas de bajo potentes que han definido la carrera del dúo por más de tres décadas. Las entradas para esta cita imperdible con los pioneros del big beat estarán disponibles a través del sistema Puntoticket. \nSobre The Chemical Brothers\nCompuesto por Tom Rowlands y Ed Simons\, The Chemical Brothers es uno de los nombres más influyentes en la historia de la música electrónica. Surgidos en la escena de Manchester a principios de los 90\, lograron derribar las barreras entre el rock y el dance\, convirtiendo los sintetizadores en instrumentos de estadio. Con álbumes icónicos como Dig Your Own Hole y Surrender\, y éxitos mundiales como «Hey Boy Hey Girl»\, «Galvanize» y «Block Rockin’ Beats»\, han sido galardonados con múltiples premios Grammy y son piezas fundamentales en los festivales más importantes del mundo. Su formato de DJ Set permite una conexión más íntima y directa con la pista\, donde mezclan sus propias producciones con una selección curada de sonidos electrónicos de vanguardia.
URL:https://iguanasong.com/calendario/the-chemical-brothers-dj-set-2026-en-espacio-riesco/
LOCATION:Espacio Riesco\, Santiago\, Chile
CATEGORIES:Electrónica
ATTACH;FMTTYPE=image/jpeg:https://iguanasong.com/wp-content/uploads/2026/01/the-chemical-brothers-red-eyes-espacio-riesco-13.01.2026-scaled.jpg
END:VEVENT
END:VCALENDAR