BEGIN:VCALENDAR
VERSION:2.0
PRODID:-// - ECPv6.15.20//NONSGML v1.0//EN
CALSCALE:GREGORIAN
METHOD:PUBLISH
X-ORIGINAL-URL:https://iguanasong.com
X-WR-CALDESC:Eventos para 
REFRESH-INTERVAL;VALUE=DURATION:PT1H
X-Robots-Tag:noindex
X-PUBLISHED-TTL:PT1H
BEGIN:VTIMEZONE
TZID:America/Santiago
BEGIN:STANDARD
TZOFFSETFROM:-0300
TZOFFSETTO:-0400
TZNAME:-04
DTSTART:20250406T030000
END:STANDARD
BEGIN:DAYLIGHT
TZOFFSETFROM:-0400
TZOFFSETTO:-0300
TZNAME:-03
DTSTART:20250907T040000
END:DAYLIGHT
BEGIN:STANDARD
TZOFFSETFROM:-0300
TZOFFSETTO:-0400
TZNAME:-04
DTSTART:20260405T030000
END:STANDARD
BEGIN:DAYLIGHT
TZOFFSETFROM:-0400
TZOFFSETTO:-0300
TZNAME:-03
DTSTART:20260906T040000
END:DAYLIGHT
BEGIN:STANDARD
TZOFFSETFROM:-0300
TZOFFSETTO:-0400
TZNAME:-04
DTSTART:20270404T030000
END:STANDARD
BEGIN:DAYLIGHT
TZOFFSETFROM:-0400
TZOFFSETTO:-0300
TZNAME:-03
DTSTART:20270905T040000
END:DAYLIGHT
END:VTIMEZONE
BEGIN:VEVENT
DTSTART;VALUE=DATE:20260206
DTEND;VALUE=DATE:20260207
DTSTAMP:20260419T182651
CREATED:20260202T130656Z
LAST-MODIFIED:20260202T130656Z
UID:32341-1770336000-1770422399@iguanasong.com
SUMMARY:Forbidden en Santiago de Chile
DESCRIPTION:Forbidden en Santiago de Chile\nLa llegada de Forbidden en Santiago de Chile marca uno de los hitos más brutales del calendario metalero para este año. La histórica agrupación de thrash metal se presentará el próximo 06 de febrero de 2026 en el céntrico Teatro Coliseo. Los fanáticos de la velocidad y la técnica podrán disfrutar de este despliegue de potencia a partir de las 20:00 horas. Esta cita imperdible promete reunir a las huestes del metal extremo en una jornada que quedará grabada en la memoria del público nacional. \nEl evento destaca no solo por el retorno de Forbidden en Santiago de Chile\, sino también por el calibre de sus acompañantes. La velada contará con la participación especial de otras dos leyendas del género: Vio-lence y Venom Inc.. Juntas\, estas tres agrupaciones transformarán el Teatro Coliseo en el epicentro mundial del metal underground por una noche. Prepárate para una ejecución impecable y una atmósfera de culto que solo estos pilares del thrash y el black metal pueden garantizar. \n\nReseña del Artista\nForbidden destaca como uno de los nombres más respetados y técnicos surgidos de la mítica Bay Area de San Francisco. Formada a mediados de los 80\, la banda se diferenció de sus contemporáneos por una complejidad compositiva superior y una ejecución vocal prodigiosa. Su álbum debut\, Forbidden Evil\, es considerado una pieza fundamental que ayudó a definir los estándares del thrash metal técnico a nivel global. \nLa trayectoria de los estadounidenses resalta por una constante evolución sonora que nunca abandonó la agresividad característica del género. Con riffs intrincados y una base rítmica demoledora\, han influenciado a generaciones de músicos extremos alrededor del mundo. Su regreso a los escenarios internacionales ha sido celebrado por la crítica especializada\, consolidando su estatus como una banda de culto que mantiene intacta su vigencia y su poderío sobre el escenario. \n\nUna cumbre de Thrash y Metal Extremo\nAcompañando a los estelares\, Vio-lence traerá toda la furia desatada del thrash metal más directo y agresivo. Conocidos por su intensidad rítmica\, los californianos prometen un repaso por sus clásicos más violentos. Por su parte\, Venom Inc. pondrá la cuota de oscuridad y raíces extremas\, manteniendo vivo el legado del black/speed metal que cambió la historia de la música pesada para siempre. \nEsta jornada triple en el Teatro Coliseo es una oportunidad única para experimentar la historia viva del metal en un solo lugar. La combinación de técnica\, velocidad y blasfemia asegura una noche de mosh pits incesantes y coros multitudinarios. Asegura tu lugar en este encuentro histórico que reunirá a lo mejor del metal internacional en el corazón de la capital chilena. \n¿A quién veremos el próximo 06 de febrero en el Teatro Coliseo para ver a Forbidden en Santiago de Chile?.
URL:https://iguanasong.com/calendario/forbidden-en-santiago-de-chile/
LOCATION:Teatro Coliseo\, Santiago\, Chile
CATEGORIES:Heavy Metal,Metal,Thrash Metal
ATTACH;FMTTYPE=image/jpeg:https://iguanasong.com/wp-content/uploads/2026/02/forbbiden-scaled.jpg
END:VEVENT
END:VCALENDAR