BEGIN:VCALENDAR
VERSION:2.0
PRODID:-// - ECPv6.15.20//NONSGML v1.0//EN
CALSCALE:GREGORIAN
METHOD:PUBLISH
X-ORIGINAL-URL:https://iguanasong.com
X-WR-CALDESC:Eventos para 
REFRESH-INTERVAL;VALUE=DURATION:PT1H
X-Robots-Tag:noindex
X-PUBLISHED-TTL:PT1H
BEGIN:VTIMEZONE
TZID:America/Santiago
BEGIN:STANDARD
TZOFFSETFROM:-0300
TZOFFSETTO:-0400
TZNAME:-04
DTSTART:20250406T030000
END:STANDARD
BEGIN:DAYLIGHT
TZOFFSETFROM:-0400
TZOFFSETTO:-0300
TZNAME:-03
DTSTART:20250907T040000
END:DAYLIGHT
BEGIN:STANDARD
TZOFFSETFROM:-0300
TZOFFSETTO:-0400
TZNAME:-04
DTSTART:20260405T030000
END:STANDARD
BEGIN:DAYLIGHT
TZOFFSETFROM:-0400
TZOFFSETTO:-0300
TZNAME:-03
DTSTART:20260906T040000
END:DAYLIGHT
BEGIN:STANDARD
TZOFFSETFROM:-0300
TZOFFSETTO:-0400
TZNAME:-04
DTSTART:20270404T030000
END:STANDARD
BEGIN:DAYLIGHT
TZOFFSETFROM:-0400
TZOFFSETTO:-0300
TZNAME:-03
DTSTART:20270905T040000
END:DAYLIGHT
END:VTIMEZONE
BEGIN:VEVENT
DTSTART;VALUE=DATE:20260212
DTEND;VALUE=DATE:20260213
DTSTAMP:20260421T100156
CREATED:20260126T180046Z
LAST-MODIFIED:20260126T180046Z
UID:32158-1770854400-1770940799@iguanasong.com
SUMMARY:Stoner Fest en Santiago de Chile
DESCRIPTION:Stoner Fest en Santiago de Chile\nLa llegada del Stoner Fest a Santiago de Chile marca el regreso triunfal de una de las citas más intensas para los amantes de los riffs pesados. Tras 15 años de espera\, la segunda edición de este festival aterrizará en el emblemático Teatro Cariola el próximo jueves 12 de febrero. La productora Chargola Pro organiza este encuentro que reúne a leyendas internacionales y talento nacional de primer nivel. Los fanáticos ya pueden asegurar su asistencia adquiriendo las entradas a través del sistema oficial Ticketplus. \nEste evento destaca por traer de vuelta la mística del desierto y la psicodelia al centro de la capital. El Teatro Cariola brindará el marco perfecto para una jornada cargada de distorsión y energía pura sobre el escenario. El festival cuenta con la colaboración de Surfestival y el apoyo de medios especializados como Rockaxis y Radio Futuro. La cita promete ser un hito para la comunidad del rock alternativo\, consolidando a Santiago como una parada obligatoria para el género. Asegura tu ticket pronto\, pues el carácter histórico de esta edición proyecta un recinto completamente lleno. \nReseña del Artista\nEl Stoner Fest en Santiago de Chile presenta un cartel de lujo encabezado por los californianos The Alive. Esta banda llega con una alineación excepcional que ha captado la atención del mundo entero. En la batería contarán con Shane Hawkins\, hijo del recordado Taylor Hawkins de Foo Fighters. Además\, se suma la participación especial de Revel Ian\, hijo de Scott Ian\, líder de la banda de thrash metal Anthrax. Juntos aportan una frescura y una herencia rockera innegable\, entregando un sonido potente que honra sus raíces mientras define su propio camino. \nLa representación nacional en el festival es igualmente impresionante con la inclusión de Yajaira\, referentes absolutos del stoner rock latinoamericano con más de 30 años de trayectoria. La banda santiaguina es pieza clave de la identidad del rock pesado en el país. Por otro lado\, la nueva generación estará representada por Consequence of Energy\, banda oriunda de Pichilemu que se ha convertido en una revelación nacional. Con su próxima participación en Lollapalooza Chile 2026\, el grupo demuestra que el stoner chileno está más vivo que nunca y listo para los escenarios más grandes. \nUna cumbre de riffs pesados en el Teatro Cariola\nEl espectáculo del próximo 12 de febrero promete una descarga de decibeles y una atmósfera de culto inigualable. El festival presentará una ejecución técnica impecable\, permitiendo a los asistentes transitar desde el legado histórico de Yajaira hasta la explosiva propuesta de The Alive. La combinación de herencia rockera internacional y la solidez de la escena chilena creará una sinergia única para celebrar los 15 años del festival. El show en el Teatro Cariola será\, sin duda\, la reunión más importante del género durante el primer semestre del año. \nConsigue tus entradas en Ticketplus y prepárate para una jornada de distorsión y hermandad rockera en el corazón de Santiago. La invitación está abierta para vivir la potencia de bandas que están escribiendo el presente y futuro del rock. El histórico recinto de la calle San Diego vibrará con la fuerza de los amplificadores el próximo mes de febrero. ¡No te quedes fuera de esta cita obligatoria con el regreso del Stoner Fest!. \n¿A quién veremos el próximo jueves 12 de febrero en el Teatro Cariola para ver a Stoner Fest en Santiago de Chile?.
URL:https://iguanasong.com/calendario/stoner-fest-en-santiago-de-chile/
CATEGORIES:Rock,Rock Alternativo
ATTACH;FMTTYPE=image/jpeg:https://iguanasong.com/wp-content/uploads/2026/01/stonerfest-scaled.jpeg
END:VEVENT
END:VCALENDAR