BEGIN:VCALENDAR
VERSION:2.0
PRODID:-// - ECPv6.15.20//NONSGML v1.0//EN
CALSCALE:GREGORIAN
METHOD:PUBLISH
X-ORIGINAL-URL:https://iguanasong.com
X-WR-CALDESC:Eventos para 
REFRESH-INTERVAL;VALUE=DURATION:PT1H
X-Robots-Tag:noindex
X-PUBLISHED-TTL:PT1H
BEGIN:VTIMEZONE
TZID:America/Santiago
BEGIN:STANDARD
TZOFFSETFROM:-0300
TZOFFSETTO:-0400
TZNAME:-04
DTSTART:20250406T030000
END:STANDARD
BEGIN:DAYLIGHT
TZOFFSETFROM:-0400
TZOFFSETTO:-0300
TZNAME:-03
DTSTART:20250907T040000
END:DAYLIGHT
BEGIN:STANDARD
TZOFFSETFROM:-0300
TZOFFSETTO:-0400
TZNAME:-04
DTSTART:20260405T030000
END:STANDARD
BEGIN:DAYLIGHT
TZOFFSETFROM:-0400
TZOFFSETTO:-0300
TZNAME:-03
DTSTART:20260906T040000
END:DAYLIGHT
BEGIN:STANDARD
TZOFFSETFROM:-0300
TZOFFSETTO:-0400
TZNAME:-04
DTSTART:20270404T030000
END:STANDARD
BEGIN:DAYLIGHT
TZOFFSETFROM:-0400
TZOFFSETTO:-0300
TZNAME:-03
DTSTART:20270905T040000
END:DAYLIGHT
END:VTIMEZONE
BEGIN:VEVENT
DTSTART;VALUE=DATE:20260501
DTEND;VALUE=DATE:20260502
DTSTAMP:20260421T070810
CREATED:20260131T175047Z
LAST-MODIFIED:20260131T175047Z
UID:32263-1777593600-1777679999@iguanasong.com
SUMMARY:The Lumineers en Santiago de Chile
DESCRIPTION:The Lumineers en Santiago de Chile\nEl folk rock de clase mundial regresa a los escenarios chilenos. The Lumineers en Santiago de Chile es un concierto confirmado su retorno a la capital ha sido pautado para el próximo 1 de mayo de 2026. El dúo estadounidense se presentará en el Movistar Arena a las 21:00 horas\, en una de las paradas más esperadas de su nueva gira mundial «The Automatic World Tour«. \nEste concierto representa una oportunidad única para reencontrarse con la energía acústica y las armonías vocales que han convertido a la banda en un fenómeno global. El Movistar Arena será el escenario perfecto para corear himnos que han marcado la última década del indie folk\, en una noche que promete ser tan íntima como épica. \n\nReseña del Artista\nOriginarios de Denver\, Colorado\, The Lumineers —liderados por Wesley Schultz y Jeremiah Fraites— se han consolidado como una de las fuerzas más potentes del folk rock contemporáneo. Desde su irrupción masiva con el hit mundial «Ho Hey»\, la banda ha demostrado una capacidad asombrosa para llenar arenas alrededor del mundo manteniendo una esencia cruda\, honesta y profundamente conectada con su audiencia. \nCon múltiples álbumes certificados con platino y nominaciones al Grammy\, el grupo ha evolucionado su sonido sin perder la narrativa nostálgica y los ritmos vibrantes que los caracterizan. Su visita a Santiago en 2026 con el tour de su nuevo material\, The Automatic\, promete un recorrido por su discografía esencial\, reafirmando por qué son considerados los herederos modernos del sonido folk más auténtico. \n\nCoordenadas del Show\nPrepárate para una noche de música orgánica y grandes emociones en el recinto del Parque O’Higgins. Aquí tienes los detalles clave: \n\n\nFecha: 1 de mayo de 2026. \n\n\nLugar: Movistar Arena\, Santiago. \n\n\nHorario: 21:00 hrs. \n\n\nGira: The Automatic World Tour. \n\n\n¡No te quedes fuera de esta cita imperdible con una de las bandas más influyentes de la escena actual!. \n¿A quién veremos el próximo 1 de mayo en el Movistar Arena para disfrutar de The Lumineers?.
URL:https://iguanasong.com/calendario/the-lumineers-en-santiago-de-chile/
LOCATION:Movistar Arena\, Santiago\, Chile
CATEGORIES:Folk,Rock,Rock Alternativo
ATTACH;FMTTYPE=image/jpeg:https://iguanasong.com/wp-content/uploads/2026/01/luminers-scaled.jpg
END:VEVENT
BEGIN:VEVENT
DTSTART;VALUE=DATE:20260512
DTEND;VALUE=DATE:20260513
DTSTAMP:20260421T070810
CREATED:20260126T144111Z
LAST-MODIFIED:20260128T180936Z
UID:32155-1778544000-1778630399@iguanasong.com
SUMMARY:Portugal. The Man en Chile
DESCRIPTION:Portugal. The Man en Chile\nLa esperada presentación de Portugal The Man en Chile marcará el regreso de uno de los referentes más innovadores del rock alternativo actual. La agrupación estadounidense se tomará el escenario de Cúpula Multiespacio el próximo 12 de mayo de 2026 para ofrecer una experiencia sonora y visual única. Bajo el lema «Support your local crews and workers»\, el conjunto reafirma su compromiso con la comunidad en esta nueva visita a la capital. Los fanáticos pueden asegurar su asistencia adquiriendo las entradas a través del sistema Punto Ticket. \nEste concierto destaca por la mística y energía que la banda suele imprimir en sus directos\, presentando su reciente concepto «Denali». El recinto del Parque O’Higgins recibirá a miles de seguidores que esperan disfrutar de una puesta en escena psicodélica y vibrante. La producción del evento cuenta con el respaldo de Stgo Fusion y Cúpula\, garantizando un estándar de calidad internacional para los asistentes. Asegura tu ticket pronto\, pues la vigencia de la banda en las listas globales proyecta una alta convocatoria para esta fecha en tierras chilenas. \nReseña del Artista\nPortugal. The Man destaca como una de las bandas más eclécticas y respetadas de la escena del rock alternativo originaria de Wasilla\, Alaska. Formada en 2004\, la agrupación liderada por John Gourley ha construido una carrera sólida basada en la experimentación constante\, mezclando elementos del indie rock\, la psicodelia y el pop experimental. Su capacidad para reinventarse con cada álbum les ha permitido transitar desde los circuitos independientes hasta convertirse en un fenómeno global ganador del premio Grammy. \nLa trayectoria del conjunto resalta por su ascenso meteórico a la masividad tras el lanzamiento del hit mundial «Feel It Still»\, canción que dominó los rankings y se convirtió en un himno de la cultura pop contemporánea. Con más de una decena de trabajos de estudio\, el grupo ha colaborado con productores de renombre y se ha presentado en los festivales más importantes del mundo\, como Coachella y Lollapalooza. Su música no solo destaca por sus melodías contagiosas y arreglos complejos\, sino también por un fuerte sentido de activismo social\, apoyando constantemente causas relacionadas con los derechos de los pueblos indígenas y el medio ambiente. \nUn viaje psicodélico en Cúpula – Parque O’higgins\nEl espectáculo del próximo 12 de mayo promete un recorrido hipnótico por los éxitos que han definido la identidad sonora de la banda en las últimas dos décadas. El conjunto presentará una ejecución técnica impecable\, donde los juegos de luces y las proyecciones visuales complementarán la atmósfera densa y expansiva de sus composiciones. El show en la Cúpula permitirá una conexión intensa\, ideal para apreciar los matices de su rock experimental en un entorno diseñado para la alta fidelidad. \nConsigue tus entradas en Punto Ticket y prepárate para una jornada de rock alternativo del más alto estándar mundial. La invitación está abierta para vivir la potencia en vivo de una banda que ha hecho de la innovación su sello personal. El recinto de Santiago se transformará en el epicentro de la vanguardia musical el próximo mes de mayo. ¡No te quedes fuera de esta oportunidad de ver a Portugal. The Man en una de sus presentaciones más esperadas en el país!. \n¿A quién veremos el próximo 12 de mayo en Cúpula para ver a Portugal The Man en Chile?.
URL:https://iguanasong.com/calendario/portugal-the-man-en-chile/
CATEGORIES:Rock Alternativo
ATTACH;FMTTYPE=image/jpeg:https://iguanasong.com/wp-content/uploads/2026/01/portugal_the_man-scaled.jpeg
END:VEVENT
BEGIN:VEVENT
DTSTART;VALUE=DATE:20260524
DTEND;VALUE=DATE:20260525
DTSTAMP:20260421T070810
CREATED:20260223T190242Z
LAST-MODIFIED:20260223T190440Z
UID:32751-1779580800-1779667199@iguanasong.com
SUMMARY:Man With A Mission en Santiago de Chile
DESCRIPTION:Man With A Mission en Santiago de Chile\nLa llegada de Man With A Mission a Santiago de Chile es una de las noticias más emocionantes para los seguidores del J-Rock y el rock alternativo este año. La banda japonesa\, famosa por sus características máscaras de lobo\, se presentará por primera vez en Chile el próximo 24 de mayo de 2026 en el Teatro Coliseo. Este esperado concierto forma parte de su gira mundial titulada «Marking New Ground – Americas». \nLa venta de entradas para disfrutar de Man With A Mission en Santiago de Chile estará disponible a través del sistema Punto Ticket. Bajo la producción de Transistor y el respaldo de Dreamers Entertainment\, el evento promete traer a la capital toda la potencia y el espectáculo visual único que ha convertido a este quinteto en un fenómeno global. \n\nReseña del Artista\nMan With A Mission (MWAM) destaca como una de las bandas más innovadoras y exitosas de la escena musical japonesa contemporánea. Compuesta por Tokyo Tanaka\, Jean-Ken Johnny\, Kamikaze Boy\, DJ Santa Monica y Spear Rib\, la agrupación ha creado una mitología propia que los presenta como «formas de vida definitivas» con cabeza de lobo y cuerpo de humano. Su sonido es una mezcla explosiva de rock\, punk\, hard core y elementos electrónicos\, lo que les ha permitido trascender fronteras y conquistar audiencias en todo el mundo. \nLa trayectoria de los nipones resalta por su estrecha relación con la cultura pop y el anime\, habiendo interpretado temas principales para series de fama internacional como Demon Slayer\, Log Horizon y Seven Deadly Sins. Con una energía arrolladora en el escenario y una ejecución técnica impecable\, MWAM ha logrado agotar arenas en Asia y Europa\, demostrando que su propuesta musical es tan poderosa como su imagen. Su regreso a Sudamérica es un testimonio de su crecimiento global y de la lealtad de su comunidad de fans. \n\nMarking New Ground: El rugido en el Teatro Coliseo\nEl concierto de Man With A Mission en Santiago de Chile este 24 de mayo será la oportunidad perfecta para que el público local viva el ritual del «Marking New Ground» World Tour 2026. El Teatro Coliseo se transformará en el escenario ideal para que los himnos de la banda resuenen con fuerza\, ofreciendo una experiencia cercana y vibrante que promete ser uno de los puntos altos de la cartelera de rock este año. \nAsegura tus entradas en Punto Ticket y prepárate para una noche de adrenalina pura con los lobos del rock japonés. Con la garantía de producción de Transistor\, Santiago se alista para recibir un show de nivel internacional que combina música de alta factura con una estética inolvidable. \n¿A quién veremos el próximo 24 de mayo en el Teatro Coliseo para ver a Man With A Mission en Santiago de Chile?.
URL:https://iguanasong.com/calendario/man-with-a-mission-en-santiago-de-chile/
LOCATION:Teatro Coliseo\, Santiago\, Chile
CATEGORIES:Rock,Rock Alternativo
ATTACH;FMTTYPE=image/jpeg:https://iguanasong.com/wp-content/uploads/2026/02/man-with-a-mision-scaled.jpg
END:VEVENT
BEGIN:VEVENT
DTSTART;VALUE=DATE:20260528
DTEND;VALUE=DATE:20260529
DTSTAMP:20260421T070810
CREATED:20260114T152052Z
LAST-MODIFIED:20260114T152052Z
UID:32043-1779926400-1780012799@iguanasong.com
SUMMARY:Horsegirl en Santiago de Chile
DESCRIPTION:Horsegirl en Santiago de Chile\nEl trío de Chicago que ha revolucionado la escena independiente actual «Horsegirl» llega por primera vez a Santiago de Chile para ofrecer una noche de ruido y melodía. Horsegirl aterriza en Santiago en plena gira de presentación de su nuevo trabajo discográfico\, Phonetics On and On (2025)\, un álbum que destaca por ser luminoso y ruidoso a la vez. La esperada cita con la banda estadounidense ocurrirá el próximo jueves 28 de mayo. El escenario encargado de recibir esta propuesta fresca y directa será el Club Chocolate\, ubicado en el corazón del Barrio Bellavista. \n\nDetalles de Entradas y Venta\nSi quieres ser parte del debut de Horsegirl en territorio nacional\, toma nota de la siguiente información: \n\n\nEl concierto se llevará a cabo el jueves 28 de mayo de 2026. \n\n\nEl lugar del evento es el Club Chocolate. \n\n\nLas entradas ya se encuentran disponibles a través del sistema oficial Punto Ticket. \n\n\nEl valor de la preventa es de $36.000 (más cargo por servicio). \n\n\nLa producción del evento está a cargo de Stgo Fusion y cuenta con el apoyo de Kross. \n\n\n\nReseña del Artista\nHorsegirl destaca como una de las agrupaciones más vibrantes de la nueva ola del rock alternativo estadounidense. Formado en Chicago por Nora Cheng\, Penelope Lowenstein y Gigi Reece\, el trío logró captar la atención mundial gracias a su estética DIY (hazlo tú mismo) y un sonido que rinde homenaje a los clásicos del shoegaze y el post-punk\, pero con una identidad totalmente renovada. Su música se caracteriza por mezclar guitarras distorsionadas con bases rítmicas secas y melodías hipnóticas que se quedan grabadas desde la primera escucha. \nLa trayectoria de la banda resalta por su honestidad y crudeza artística. Su nuevo disco\, Phonetics On and On\, fue grabado en apenas dos semanas\, un proceso intenso que les permitió empujar sus propios límites y jugar con nuevas texturas sonoras sin perder la esencia directa que las caracteriza. Con una propuesta que va directo al corazón de los amantes del rock independiente\, Horsegirl ha pasado de ser un fenómeno local a presentarse en los escenarios más prestigiosos de la escena internacional\, consolidándose como un referente indispensable para entender la música alternativa actual. \n\nUn debut lleno de vibra independiente\nEste concierto representa la oportunidad ideal para presenciar el crecimiento de una banda que ha sabido mantener su identidad cruda en un formato profesional de alto impacto. El Club Chocolate brinda la atmósfera íntima necesaria para apreciar los matices de las nuevas composiciones del trío y la fuerza de su puesta en vivo. La propuesta de Horsegirl invita a los asistentes a sumergirse en un universo de experimentación y frescura sonora que promete ser uno de los hitos del año para la fanaticada indie. No dejes pasar la oportunidad de asegurar tu entrada en Punto Ticket para este estreno en Chile. \n¿A quién veremos el próximo 28 de mayo en el Club Chocolate para disfrutar de Horsegirl en Santiago?.
URL:https://iguanasong.com/calendario/horsegirl-en-santiago-de-chile/
LOCATION:Club Chocolate\, Santiago\, Chile
CATEGORIES:Rock Alternativo
ATTACH;FMTTYPE=image/jpeg:https://iguanasong.com/wp-content/uploads/2026/01/horsegirl-scaled.jpg
END:VEVENT
END:VCALENDAR