BEGIN:VCALENDAR
VERSION:2.0
PRODID:-// - ECPv6.15.20//NONSGML v1.0//EN
CALSCALE:GREGORIAN
METHOD:PUBLISH
X-ORIGINAL-URL:https://iguanasong.com
X-WR-CALDESC:Eventos para 
REFRESH-INTERVAL;VALUE=DURATION:PT1H
X-Robots-Tag:noindex
X-PUBLISHED-TTL:PT1H
BEGIN:VTIMEZONE
TZID:America/Santiago
BEGIN:STANDARD
TZOFFSETFROM:-0300
TZOFFSETTO:-0400
TZNAME:-04
DTSTART:20250406T030000
END:STANDARD
BEGIN:DAYLIGHT
TZOFFSETFROM:-0400
TZOFFSETTO:-0300
TZNAME:-03
DTSTART:20250907T040000
END:DAYLIGHT
BEGIN:STANDARD
TZOFFSETFROM:-0300
TZOFFSETTO:-0400
TZNAME:-04
DTSTART:20260405T030000
END:STANDARD
BEGIN:DAYLIGHT
TZOFFSETFROM:-0400
TZOFFSETTO:-0300
TZNAME:-03
DTSTART:20260906T040000
END:DAYLIGHT
BEGIN:STANDARD
TZOFFSETFROM:-0300
TZOFFSETTO:-0400
TZNAME:-04
DTSTART:20270404T030000
END:STANDARD
BEGIN:DAYLIGHT
TZOFFSETFROM:-0400
TZOFFSETTO:-0300
TZNAME:-03
DTSTART:20270905T040000
END:DAYLIGHT
END:VTIMEZONE
BEGIN:VEVENT
DTSTART;VALUE=DATE:20260508
DTEND;VALUE=DATE:20260509
DTSTAMP:20260421T091132
CREATED:20251013T225105Z
LAST-MODIFIED:20251116T225328Z
UID:30808-1778198400-1778284799@iguanasong.com
SUMMARY:KORN
DESCRIPTION:
URL:https://iguanasong.com/calendario/korn/
LOCATION:Parque Estadio Nacional
CATEGORIES:Nu Metal,Rock
ATTACH;FMTTYPE=image/jpeg:https://iguanasong.com/wp-content/uploads/2025/11/KORN-1x1-1-scaled.jpg
END:VEVENT
BEGIN:VEVENT
DTSTART;VALUE=DATE:20260524
DTEND;VALUE=DATE:20260525
DTSTAMP:20260421T091132
CREATED:20260401T193149Z
LAST-MODIFIED:20260401T193149Z
UID:33257-1779580800-1779667199@iguanasong.com
SUMMARY:Drowning Pool en Santiago de Chile
DESCRIPTION:La potencia del metal alternativo estadounidense regresará a Santiago de Chile con el «South American 2026» de Drowning Pool. La banda se presentará el próximo 24 de mayo en la Sala Metrónomo\, prometiendo una jornada cargada de energía y los riffs pesados que los caracterizan. El show contará además con la participación especial de la banda Válvera como invitados destacados. \nLa venta de entradas para Drowning Pool en Santiago de Chile se realiza a través del sistema Passline. Bajo la producción de Transistor y Venus Concerts\, el evento asegura una experiencia de alta intensidad en uno de los recintos más dinámicos del Barrio Bellavista. \n\nReseña del Artista\nDrowning Pool irrumpió con fuerza en la escena mundial a principios de los años 2000\, convirtiéndose rápidamente en un referente del nu-metal y el metal alternativo. Su álbum debut\, Sinner\, alcanzó el estatus de platino en tiempo récord\, impulsado por el éxito masivo de su himno «Bodies»\, una canción que ha trascendido generaciones y se mantiene como un pilar en las listas de reproducción de rock pesado en todo el mundo. \nA lo largo de su trayectoria\, la banda ha demostrado una resiliencia admirable\, manteniendo su esencia sonora a pesar de los cambios en su formación y los desafíos de la industria. Su música se distingue por una combinación equilibrada de agresividad vocal\, ritmos potentes y una energía escénica que invita al pogo y la catarsis colectiva. Con múltiples álbumes de estudio y presentaciones en los festivales más importantes del globo\, Drowning Pool llega a Chile para reafirmar por qué siguen siendo una fuerza vigente y necesaria en el metal contemporáneo. \n\nSouth American 2026: Una noche de poder en Sala Metrónomo\nEl concierto de Drowning Pool en Santiago de Chile este 24 de mayo será la oportunidad perfecta para que los fanáticos locales vivan en directo la fuerza de su «South American 2026». La Sala Metrónomo ofrecerá el entorno ideal para que clásicos como «Sinner» y «Step Up» resuenen con toda su intensidad\, acompañados por la propuesta técnica de Válvera para calentar los motores. \nAsegura tus entradas en Passline y prepárate para una noche de puro metal y adrenalina en la capital. Con la garantía de producción de Transistor\, Santiago se alista para recibir uno de los shows más contundentes del primer semestre. \n¿A quién veremos el próximo 24 de mayo en la Sala Metrónomo para disfrutar de Drowning Pool en Santiago de Chile?.
URL:https://iguanasong.com/calendario/drowning-pool-en-santiago-de-chile/
LOCATION:Sala Metrónomo\, Santiago\, Chile
CATEGORIES:Nu Metal
ATTACH;FMTTYPE=image/jpeg:https://iguanasong.com/wp-content/uploads/2026/04/Drowning_Pool.jpeg
END:VEVENT
END:VCALENDAR