BEGIN:VCALENDAR
VERSION:2.0
PRODID:-// - ECPv6.15.20//NONSGML v1.0//EN
CALSCALE:GREGORIAN
METHOD:PUBLISH
X-ORIGINAL-URL:https://iguanasong.com
X-WR-CALDESC:Eventos para 
REFRESH-INTERVAL;VALUE=DURATION:PT1H
X-Robots-Tag:noindex
X-PUBLISHED-TTL:PT1H
BEGIN:VTIMEZONE
TZID:America/Santiago
BEGIN:STANDARD
TZOFFSETFROM:-0300
TZOFFSETTO:-0400
TZNAME:-04
DTSTART:20250406T030000
END:STANDARD
BEGIN:DAYLIGHT
TZOFFSETFROM:-0400
TZOFFSETTO:-0300
TZNAME:-03
DTSTART:20250907T040000
END:DAYLIGHT
BEGIN:STANDARD
TZOFFSETFROM:-0300
TZOFFSETTO:-0400
TZNAME:-04
DTSTART:20260405T030000
END:STANDARD
BEGIN:DAYLIGHT
TZOFFSETFROM:-0400
TZOFFSETTO:-0300
TZNAME:-03
DTSTART:20260906T040000
END:DAYLIGHT
BEGIN:STANDARD
TZOFFSETFROM:-0300
TZOFFSETTO:-0400
TZNAME:-04
DTSTART:20270404T030000
END:STANDARD
BEGIN:DAYLIGHT
TZOFFSETFROM:-0400
TZOFFSETTO:-0300
TZNAME:-03
DTSTART:20270905T040000
END:DAYLIGHT
END:VTIMEZONE
BEGIN:VEVENT
DTSTART;VALUE=DATE:20260509
DTEND;VALUE=DATE:20260510
DTSTAMP:20260419T205335
CREATED:20260108T221412Z
LAST-MODIFIED:20260108T221412Z
UID:31951-1778284800-1778371199@iguanasong.com
SUMMARY:DGTL en Santiago de Chile
DESCRIPTION:DGTL en Santiago de Chile\nEl festival que está redefiniendo la relación entre la música electrónica y el medio ambiente DGTL aterriza nuevamente en Santiago de Chile. Este festival representa una propuesta vanguardista que busca el equilibrio perfecto entre la innovación artística y la sostenibilidad global. Esta nueva edición chilena promete transformar el entorno con escenarios impresionantes y efectos visuales hipnotizantes. La cita para este encuentro sensorial ocurrirá el próximo 9 de mayo de 2026. El centro de eventos Espacio Riesco recibirá a los máximos exponentes de la escena electrónica en un entorno de estética industrial. \nDetalles de Entradas\nSi quieres ser parte de esta experiencia inmersiva y circular\, toma nota de la información oficial: \n\n\nLas entradas se encuentran disponibles exclusivamente a través del sistema Punto Ticket. \n\n\nEl evento se llevará a cabo el día sábado 9 de mayo. \n\n\nEl recinto confirmado para esta edición es Espacio Riesco\, Santiago. \n\n\nReseña del Artista\nDGTL no es solo un festival\, sino un movimiento global nacido en Ámsterdam en 2013 que ha conquistado las principales capitales del mundo. Desde sus inicios\, se ha expandido con éxito a ciudades como Barcelona\, Madrid\, Nueva York\, São Paulo y Nueva Delhi. Su curaduría musical se enfoca en presentar lo mejor del techno y el house\, mezclando leyendas consagradas con los talentos más disruptivos de la innovación sonora. Cada edición es diseñada para ofrecer una experiencia única donde el arte digital y la música convergen en perfecta armonía. \nLo que realmente diferencia a DGTL es su profundo compromiso ético y su ambicioso programa de sostenibilidad. El festival explora proyectos revolucionarios con el objetivo final de convertirse en un evento 100% sostenible y circular. A través de la gestión eficiente de residuos y el uso de energías limpias\, DGTL demuestra que los grandes eventos masivos pueden liderar el cambio ambiental. Al asistir\, el público no solo disfruta de una calidad sonora superior\, sino que también participa en un espacio de conciencia colectiva y exploración tecnológica. \nUna experiencia industrial y sostenible\nEsta jornada en Espacio Riesco será la oportunidad ideal para vivir la música electrónica desde una perspectiva futurista y responsable. Los escenarios de DGTL son conocidos por su diseño arquitectónico que aprovecha la estética de los entornos industriales para crear atmósferas envolventes. La llegada de este tour global a Santiago consolida a la capital como un punto clave en el circuito electrónico internacional. No pierdas la oportunidad de formar parte de este ecosistema donde el baile y la circularidad se encuentran en un mismo lugar. \n¿A quién veremos el próximo 9 de mayo en Espacio Riesco para ver a DGTL en Santiago de Chile?.
URL:https://iguanasong.com/calendario/dgtl-en-santiago-de-chile/
LOCATION:Espacio Riesco\, Santiago\, Chile
CATEGORIES:Electrónica
ATTACH;FMTTYPE=image/jpeg:https://iguanasong.com/wp-content/uploads/2026/01/dgtl-scaled.jpg
END:VEVENT
END:VCALENDAR