BEGIN:VCALENDAR
VERSION:2.0
PRODID:-// - ECPv6.15.20//NONSGML v1.0//EN
CALSCALE:GREGORIAN
METHOD:PUBLISH
X-ORIGINAL-URL:https://iguanasong.com
X-WR-CALDESC:Eventos para 
REFRESH-INTERVAL;VALUE=DURATION:PT1H
X-Robots-Tag:noindex
X-PUBLISHED-TTL:PT1H
BEGIN:VTIMEZONE
TZID:America/Santiago
BEGIN:STANDARD
TZOFFSETFROM:-0300
TZOFFSETTO:-0400
TZNAME:-04
DTSTART:20250406T030000
END:STANDARD
BEGIN:DAYLIGHT
TZOFFSETFROM:-0400
TZOFFSETTO:-0300
TZNAME:-03
DTSTART:20250907T040000
END:DAYLIGHT
BEGIN:STANDARD
TZOFFSETFROM:-0300
TZOFFSETTO:-0400
TZNAME:-04
DTSTART:20260405T030000
END:STANDARD
BEGIN:DAYLIGHT
TZOFFSETFROM:-0400
TZOFFSETTO:-0300
TZNAME:-03
DTSTART:20260906T040000
END:DAYLIGHT
BEGIN:STANDARD
TZOFFSETFROM:-0300
TZOFFSETTO:-0400
TZNAME:-04
DTSTART:20270404T030000
END:STANDARD
BEGIN:DAYLIGHT
TZOFFSETFROM:-0400
TZOFFSETTO:-0300
TZNAME:-03
DTSTART:20270905T040000
END:DAYLIGHT
END:VTIMEZONE
BEGIN:VEVENT
DTSTART;VALUE=DATE:20260502
DTEND;VALUE=DATE:20260503
DTSTAMP:20260419T192423
CREATED:20260209T162445Z
LAST-MODIFIED:20260209T163436Z
UID:32449-1777680000-1777766399@iguanasong.com
SUMMARY:Dont Let Daddy Know en Santiago de Chile
DESCRIPTION:La llegada de Dont Let Daddy Know en Santiago de Chile ya es una realidad para los fanáticos de la música electrónica de vanguardia. El mundialmente reconocido festival aterrizará con su cuarta edición el próximo 2 de mayo de 2026 en Espacio Riesco\, el epicentro de los grandes eventos en la capital. Las entradas estarán disponibles a partir de este martes 10 de febrero a las 12:00 PM a través del sistema Punto Ticket. \nBajo la producción de Iguana Producciones\, el festival promete una noche de despliegue visual y sonoro sin precedentes. Este evento se ha consolidado como una de las paradas obligatorias del tour mundial\, trayendo a Chile un cartel cargado de superestrellas globales de la EDM. Con una infraestructura diseñada para albergar a miles de personas\, Espacio Riesco se transformará en una pista de baile masiva para recibir la energía única de DLDK. \n\nReseña del Artista\nDon’t Let Daddy Know (DLDK) destaca como uno de los festivales de música electrónica más importantes y de mayor crecimiento en el mundo. Nacido en Ibiza\, el concepto ha logrado expandirse a más de 20 países\, creando una comunidad global unida por el baile y la alta producción. El festival se caracteriza por sus impresionantes escenarios\, espectáculos de luces láser y efectos especiales que complementan las presentaciones de los mejores DJs del circuito internacional. \nLa trayectoria de DLDK resalta por haber albergado a los nombres más influyentes de la industria\, desde leyendas del progressive house hasta los exponentes más frescos del big room y el trance. En su cuarta edición en Chile\, el festival reafirma su compromiso con el público local al presentar un line-up de lujo liderado por Axwell y Steve Aoki\, acompañados por referentes como Blasterjaxx\, Nervo y el concepto HALO (Third Party\, Matisse & Sadko\, Dubvision). Esta mezcla de talento asegura una jornada de ritmo frenético e himnos electrónicos que han dominado los charts mundiales. \n\nUna noche épica en Espacio Riesco\nEl line-up para este 2 de mayo cuenta con una selección de primer nivel organizada en orden alfabético para sus platos fuertes: \n\n\nHeadliners: Axwell y Steve Aoki encabezan la lista de estrellas confirmadas. \n\n\nArtistas internacionales: Blasterjaxx\, NERVO y el show colaborativo HALO. \n\n\nSoporte nacional y local: Dezko\, Rod Valdes B2B Isabella Serafini\, Forero y Dante Becks. \n\n\nAsegura tus tickets este martes al mediodía en Punto Ticket y prepárate para ser parte del fenómeno global que redefine la fiesta. Con el respaldo de Radio Carolina y el sello oficial del World Tour\, la edición 2026 de Don’t Let Daddy Know promete elevar la vara de los festivales electrónicos en el país. \n¿A quién veremos el próximo 2 de mayo en Espacio Riesco para ver a Dont Let Daddy Know en Santiago de Chile?.
URL:https://iguanasong.com/calendario/dont-let-daddy-know-en-santiago-de-chile/
LOCATION:Espacio Riesco\, Santiago\, Chile
CATEGORIES:Electrónica
ATTACH;FMTTYPE=image/jpeg:https://iguanasong.com/wp-content/uploads/2026/02/dontlet--scaled.jpg
END:VEVENT
BEGIN:VEVENT
DTSTART;VALUE=DATE:20260508
DTEND;VALUE=DATE:20260509
DTSTAMP:20260419T192423
CREATED:20260406T145724Z
LAST-MODIFIED:20260412T150304Z
UID:33503-1778198400-1778284799@iguanasong.com
SUMMARY:John Summit
DESCRIPTION:
URL:https://iguanasong.com/calendario/john-summit/
LOCATION:Espacio Riesco\, Santiago\, Chile
CATEGORIES:Electrónica
ATTACH;FMTTYPE=image/png:https://iguanasong.com/wp-content/uploads/2026/04/JS2026-KV-FEED-scaled.png
END:VEVENT
BEGIN:VEVENT
DTSTART;VALUE=DATE:20260509
DTEND;VALUE=DATE:20260510
DTSTAMP:20260419T192423
CREATED:20260108T221412Z
LAST-MODIFIED:20260108T221412Z
UID:31951-1778284800-1778371199@iguanasong.com
SUMMARY:DGTL en Santiago de Chile
DESCRIPTION:DGTL en Santiago de Chile\nEl festival que está redefiniendo la relación entre la música electrónica y el medio ambiente DGTL aterriza nuevamente en Santiago de Chile. Este festival representa una propuesta vanguardista que busca el equilibrio perfecto entre la innovación artística y la sostenibilidad global. Esta nueva edición chilena promete transformar el entorno con escenarios impresionantes y efectos visuales hipnotizantes. La cita para este encuentro sensorial ocurrirá el próximo 9 de mayo de 2026. El centro de eventos Espacio Riesco recibirá a los máximos exponentes de la escena electrónica en un entorno de estética industrial. \nDetalles de Entradas\nSi quieres ser parte de esta experiencia inmersiva y circular\, toma nota de la información oficial: \n\n\nLas entradas se encuentran disponibles exclusivamente a través del sistema Punto Ticket. \n\n\nEl evento se llevará a cabo el día sábado 9 de mayo. \n\n\nEl recinto confirmado para esta edición es Espacio Riesco\, Santiago. \n\n\nReseña del Artista\nDGTL no es solo un festival\, sino un movimiento global nacido en Ámsterdam en 2013 que ha conquistado las principales capitales del mundo. Desde sus inicios\, se ha expandido con éxito a ciudades como Barcelona\, Madrid\, Nueva York\, São Paulo y Nueva Delhi. Su curaduría musical se enfoca en presentar lo mejor del techno y el house\, mezclando leyendas consagradas con los talentos más disruptivos de la innovación sonora. Cada edición es diseñada para ofrecer una experiencia única donde el arte digital y la música convergen en perfecta armonía. \nLo que realmente diferencia a DGTL es su profundo compromiso ético y su ambicioso programa de sostenibilidad. El festival explora proyectos revolucionarios con el objetivo final de convertirse en un evento 100% sostenible y circular. A través de la gestión eficiente de residuos y el uso de energías limpias\, DGTL demuestra que los grandes eventos masivos pueden liderar el cambio ambiental. Al asistir\, el público no solo disfruta de una calidad sonora superior\, sino que también participa en un espacio de conciencia colectiva y exploración tecnológica. \nUna experiencia industrial y sostenible\nEsta jornada en Espacio Riesco será la oportunidad ideal para vivir la música electrónica desde una perspectiva futurista y responsable. Los escenarios de DGTL son conocidos por su diseño arquitectónico que aprovecha la estética de los entornos industriales para crear atmósferas envolventes. La llegada de este tour global a Santiago consolida a la capital como un punto clave en el circuito electrónico internacional. No pierdas la oportunidad de formar parte de este ecosistema donde el baile y la circularidad se encuentran en un mismo lugar. \n¿A quién veremos el próximo 9 de mayo en Espacio Riesco para ver a DGTL en Santiago de Chile?.
URL:https://iguanasong.com/calendario/dgtl-en-santiago-de-chile/
LOCATION:Espacio Riesco\, Santiago\, Chile
CATEGORIES:Electrónica
ATTACH;FMTTYPE=image/jpeg:https://iguanasong.com/wp-content/uploads/2026/01/dgtl-scaled.jpg
END:VEVENT
BEGIN:VEVENT
DTSTART;VALUE=DATE:20260514
DTEND;VALUE=DATE:20260515
DTSTAMP:20260419T192423
CREATED:20260326T214327Z
LAST-MODIFIED:20260404T221305Z
UID:33372-1778716800-1778803199@iguanasong.com
SUMMARY:Monolink
DESCRIPTION:
URL:https://iguanasong.com/calendario/monolink/
LOCATION:Basel
CATEGORIES:Electrónica
ATTACH;FMTTYPE=image/jpeg:https://iguanasong.com/wp-content/uploads/2026/04/Monolink-14.05-4x5-01_719x0-scaled.jpg
END:VEVENT
BEGIN:VEVENT
DTSTART;VALUE=DATE:20260515
DTEND;VALUE=DATE:20260516
DTSTAMP:20260419T192423
CREATED:20251204T195133Z
LAST-MODIFIED:20260108T223748Z
UID:31173-1778803200-1778889599@iguanasong.com
SUMMARY:Martin Garrix en Santiago de Chile
DESCRIPTION:Martin Garrix en Santiago de Chile\nEl DJ número uno del mundo regresa para hacer vibrar a Santiago de Chile con sus mejores beats. El productor neerlandés presentará su esperado «Americas Tour» en una noche cargada de efectos visuales y energía. La cita electrónica con Martin Garrix en Santiago de Chile ocurrirá el próximo viernes 15 de mayo. El encuentro transformará el recinto en una verdadera fiesta global para miles de fanáticos del EDM. El espectacular Movistar Arena recibirá esta producción de alto impacto tecnológico. La productora Street Machine lidera la organización de este evento internacional de primer nivel. \n\nDetalles de Entradas\nSi deseas ser parte de este espectáculo de música electrónica\, considera los siguientes puntos clave: \n\n\nEl evento se llevará a cabo el viernes 15 de mayo. \n\n\nEl lugar confirmado para la presentación es el Movistar Arena en Santiago. \n\n\nLa productora Street Machine es la responsable oficial del show. \n\n\nEl medio aliado para esta fecha es Radio Carolina. \n\n\n\nReseña del Artista\nMartin Garrix destaca como una de las figuras más influyentes y jóvenes de la música electrónica contemporánea. Originario de los Países Bajos\, el artista alcanzó la fama mundial con apenas 17 años gracias a su éxito «Animals». Su talento precoz para la producción musical le permitió encabezar los festivales más importantes del planeta en tiempo récord. Ha sido nombrado el DJ número uno del mundo en múltiples ocasiones por la prestigiosa revista DJ Mag. Su estilo único fusiona el progressive house con toques melódicos de pop\, logrando un sonido distintivo que domina los rankings globales. \nLa trayectoria del DJ incluye colaboraciones históricas con estrellas de la talla de Dua Lipa\, Usher y Khalid. Hits como «In the Name of Love»\, «Scared to Be Lonely» y «High on Life» acumulan miles de millones de reproducciones. Además de su faceta como DJ\, Garrix dirige su propio sello discográfico\, STMPD RCRDS\, donde impulsa a nuevos talentos del género. Su «Americas Tour» representa una evolución en sus presentaciones en vivo\, integrando pantallas LED de última generación y pirotecnia sincronizada. Ver a Martin Garrix es experimentar una conexión única entre la música digital y la emoción humana en la pista de baile. \n\nUna noche electrónica de nivel mundial\nEste concierto representa la oportunidad ideal para vivir la intensidad de un show diseñado para los grandes estadios del mundo. El Movistar Arena brinda la acústica y el espacio necesario para disfrutar de cada drop y transición del set del neerlandés. La propuesta visual de Garrix promete envolver a los asistentes en una experiencia sensorial inigualable durante toda la jornada. No dejes pasar la oportunidad de asegurar tu entrada para el evento electrónico más importante de la temporada en el país. \n¿A quién veremos el próximo viernes 15 de mayo en el Movistar Arena para ver a Martin Garrix en Santiago de Chile?.
URL:https://iguanasong.com/calendario/martin-garrix-en-santiago-de-chile/
LOCATION:Movistar Arena\, Santiago\, Chile
CATEGORIES:Electrónica
ATTACH;FMTTYPE=image/png:https://iguanasong.com/wp-content/uploads/2025/12/Feed-Long-HighRes-scaled.png
END:VEVENT
BEGIN:VEVENT
DTSTART;VALUE=DATE:20260520
DTEND;VALUE=DATE:20260521
DTSTAMP:20260419T192423
CREATED:20260401T140935Z
LAST-MODIFIED:20260405T151516Z
UID:33396-1779235200-1779321599@iguanasong.com
SUMMARY:Hercules & Love Affair Live
DESCRIPTION:
URL:https://iguanasong.com/calendario/hercules-love-affair-live/
LOCATION:Blondie\, Santiago\, Chile
CATEGORIES:Electrónica
ATTACH;FMTTYPE=image/jpeg:https://iguanasong.com/wp-content/uploads/2026/04/Hercules-Love-Affair-CL-4x5-01-scaled.jpeg
END:VEVENT
BEGIN:VEVENT
DTSTART;VALUE=DATE:20260522
DTEND;VALUE=DATE:20260523
DTSTAMP:20260419T192423
CREATED:20260214T175133Z
LAST-MODIFIED:20260214T175133Z
UID:32506-1779408000-1779494399@iguanasong.com
SUMMARY:Trinix en Santiago de Chile
DESCRIPTION:Trinix en Santiago de Chile\nLa llegada de Trinix a Santiago de Chile marca uno de los puntos más altos de la agenda electrónica de este año. El aclamado dúo francés se presentará el 22 de mayo de 2026 en el exclusivo Club Chocolate\, ubicado en el corazón del Barrio Bellavista. Este show se da en el marco de su esperada gira mundial titulada «Origin World Tour 2026». \nEl arribo de Trinix a Santiago de Chile promete una noche de ritmos vibrantes y una energía inigualable\, características que han llevado a la agrupación a la cima de los charts internacionales. Con una puesta en escena diseñada para hacer vibrar a la capital\, el evento cuenta con el respaldo de agencias de renombre como UTA y WART Music. Club Chocolate será el recinto perfecto para albergar la fusión de sonidos orgánicos y electrónicos que define el estilo único de este dúo en su paso por el país. \n\nReseña del Artista\nTrinix destaca como uno de los proyectos más frescos y dinámicos de la escena electrónica global actual. Formado en Lyon\, Francia\, el dúo ha sabido conquistar a millones de oyentes gracias a su habilidad para mezclar géneros como el house\, el hip-hop y el pop con una elegancia sonora envidiable. Sus producciones se caracterizan por el uso creativo de samples y una instrumentación que se siente viva\, logrando hits que acumulan cientos de millones de reproducciones en plataformas digitales. \nLa trayectoria de estos productores franceses resalta por su constante innovación y su cercanía con la audiencia a través de redes sociales\, donde sus remixes y videos creativos se han vuelto virales a nivel mundial. Han logrado hitos importantes presentándose en los escenarios más prestigiosos de Europa y Norteamérica\, y su aterrizaje en el cono sur con el «Origin World Tour» es la confirmación de su estatus como referentes de la música electrónica contemporánea que trasciende fronteras y etiquetas. \n\nUna noche de «Origin» en Club Chocolate\nEl concierto de Trinix a Santiago de Chile este 22 de mayo será la instancia ideal para vivir la experiencia del tour mundial en un formato de club\, permitiendo una conexión directa entre los artistas y su público. Los asistentes podrán disfrutar de un recorrido por sus grandes éxitos y las nuevas composiciones que dan nombre a esta gira. Es una invitación a sumergirse en un viaje sonoro que celebra las raíces de su sonido y su evolución hacia el futuro de la pista de baile. \nPrepárate para asegurar tu lugar en esta cita obligatoria para los amantes del buen ritmo en Santiago este 2026. La visita de Trinix promete ser una jornada histórica que elevará la temperatura de la noche santiaguina con lo mejor del talento francés. No pierdas la oportunidad de ser parte del «Origin World Tour 2026» en uno de los escenarios más vibrantes de la ciudad. \n¿A quién veremos el próximo 22 de mayo en el Club Chocolate para ver a Trinix a Santiago de Chile?.
URL:https://iguanasong.com/calendario/trinix-en-santiago-de-chile/
LOCATION:Club Chocolate\, Santiago\, Chile
CATEGORIES:Electrónica
ATTACH;FMTTYPE=image/jpeg:https://iguanasong.com/wp-content/uploads/2026/02/TRINIX_SANTAIGO-scaled.jpg
END:VEVENT
END:VCALENDAR