BEGIN:VCALENDAR
VERSION:2.0
PRODID:-// - ECPv6.15.20//NONSGML v1.0//EN
CALSCALE:GREGORIAN
METHOD:PUBLISH
X-ORIGINAL-URL:https://iguanasong.com
X-WR-CALDESC:Eventos para 
REFRESH-INTERVAL;VALUE=DURATION:PT1H
X-Robots-Tag:noindex
X-PUBLISHED-TTL:PT1H
BEGIN:VTIMEZONE
TZID:America/Santiago
BEGIN:STANDARD
TZOFFSETFROM:-0300
TZOFFSETTO:-0400
TZNAME:-04
DTSTART:20250406T030000
END:STANDARD
BEGIN:DAYLIGHT
TZOFFSETFROM:-0400
TZOFFSETTO:-0300
TZNAME:-03
DTSTART:20250907T040000
END:DAYLIGHT
BEGIN:STANDARD
TZOFFSETFROM:-0300
TZOFFSETTO:-0400
TZNAME:-04
DTSTART:20260405T030000
END:STANDARD
BEGIN:DAYLIGHT
TZOFFSETFROM:-0400
TZOFFSETTO:-0300
TZNAME:-03
DTSTART:20260906T040000
END:DAYLIGHT
BEGIN:STANDARD
TZOFFSETFROM:-0300
TZOFFSETTO:-0400
TZNAME:-04
DTSTART:20270404T030000
END:STANDARD
BEGIN:DAYLIGHT
TZOFFSETFROM:-0400
TZOFFSETTO:-0300
TZNAME:-03
DTSTART:20270905T040000
END:DAYLIGHT
END:VTIMEZONE
BEGIN:VEVENT
DTSTART;VALUE=DATE:20260213
DTEND;VALUE=DATE:20260214
DTSTAMP:20260419T205220
CREATED:20260103T182222Z
LAST-MODIFIED:20260103T182222Z
UID:31836-1770940800-1771027199@iguanasong.com
SUMMARY:The Chemical Brothers: DJ Set 2026 en Espacio Riesco
DESCRIPTION:The Chemical Brothers: DJ Set 2026 en Espacio Riesco\nLa vanguardia de la música electrónica mundial regresa a Santiago con la confirmación de una presentación exclusiva de The Chemical Brothers. El legendario dúo británico aterrizará en el país el próximo 13 de febrero de 2026 para ofrecer un DJ Set de alto impacto en Espacio Riesco\, un recinto que se transformará en el epicentro del baile y la experimentación sonora. \nEl evento\, producido por Red Eyes y HÏST Entertainment\, promete una noche cargada de los ritmos psicodélicos y las líneas de bajo potentes que han definido la carrera del dúo por más de tres décadas. Las entradas para esta cita imperdible con los pioneros del big beat estarán disponibles a través del sistema Puntoticket. \nSobre The Chemical Brothers\nCompuesto por Tom Rowlands y Ed Simons\, The Chemical Brothers es uno de los nombres más influyentes en la historia de la música electrónica. Surgidos en la escena de Manchester a principios de los 90\, lograron derribar las barreras entre el rock y el dance\, convirtiendo los sintetizadores en instrumentos de estadio. Con álbumes icónicos como Dig Your Own Hole y Surrender\, y éxitos mundiales como «Hey Boy Hey Girl»\, «Galvanize» y «Block Rockin’ Beats»\, han sido galardonados con múltiples premios Grammy y son piezas fundamentales en los festivales más importantes del mundo. Su formato de DJ Set permite una conexión más íntima y directa con la pista\, donde mezclan sus propias producciones con una selección curada de sonidos electrónicos de vanguardia.
URL:https://iguanasong.com/calendario/the-chemical-brothers-dj-set-2026-en-espacio-riesco/
LOCATION:Espacio Riesco\, Santiago\, Chile
CATEGORIES:Electrónica
ATTACH;FMTTYPE=image/jpeg:https://iguanasong.com/wp-content/uploads/2026/01/the-chemical-brothers-red-eyes-espacio-riesco-13.01.2026-scaled.jpg
END:VEVENT
BEGIN:VEVENT
DTSTART;VALUE=DATE:20260222
DTEND;VALUE=DATE:20260223
DTSTAMP:20260419T205220
CREATED:20260106T133430Z
LAST-MODIFIED:20260106T133430Z
UID:31851-1771718400-1771804799@iguanasong.com
SUMMARY:RÜFÜS DU SOL en Chile 2026
DESCRIPTION:RÜFÜS DU SOL: Regreso a Chile en el Movistar Arena 2026\nEl aclamado trío australiano de música electrónica\, RÜFÜS DU SOL\, ha confirmado su esperado retorno a Santiago para ofrecer una experiencia sonora y visual envolvente. Tras consolidarse como uno de los actos en vivo más importantes del género a nivel global\, la banda se presentará en el corazón de la capital para reencontrarse con su ferviente fanaticada chilena. \nEl concierto se llevará a cabo el 22 de febrero de 2026 en el Movistar Arena. Este recinto\, conocido por su excelente acústica\, será el lugar donde los sintetizadores y las atmósferas etéreas del grupo cobrarán vida. Las entradas para este evento estarán disponibles a través del sistema Puntoticket\, y los clientes de Entel y Banco Santander podrán acceder a beneficios exclusivos como un 20% de descuento. \nSobre RÜFÜS DU SOL\nOriginarios de Sídney\, Australia\, y compuestos por Tyrone Lindqvist\, Jon George y James Hunt\, RÜFÜS DU SOL ha redefinido el panorama de la música electrónica moderna fusionando ritmos de club con letras profundamente emocionales y estructuras de pop alternativo. Con álbumes premiados como Bloom\, Solace y Surrender\, el trío ha ganado el reconocimiento de la crítica y del público\, obteniendo incluso el premio Grammy a la Mejor Grabación Dance. Sus presentaciones en vivo son famosas por su meticuloso diseño de iluminación y una ejecución orgánica que transporta a la audiencia por paisajes sonoros que van desde la introspección melancólica hasta la euforia colectiva. Su regreso en 2026 promete ser uno de los puntos más altos de la cartelera electrónica del año.
URL:https://iguanasong.com/calendario/rufus-du-sol-en-chile-2026/
LOCATION:Movistar Arena\, Santiago\, Chile
CATEGORIES:Electrónica
ATTACH;FMTTYPE=image/png:https://iguanasong.com/wp-content/uploads/2026/01/rufus_du_sol-scaled.png
END:VEVENT
BEGIN:VEVENT
DTSTART;VALUE=DATE:20260227
DTEND;VALUE=DATE:20260228
DTSTAMP:20260419T205220
CREATED:20260106T163034Z
LAST-MODIFIED:20260106T163034Z
UID:31886-1772150400-1772236799@iguanasong.com
SUMMARY:Pet Shop Boys en Santiago
DESCRIPTION:Pet Shop Boys en Chile: Dreamworld 2026 – The Greatest Hits Live\nEl icónico dúo británico Pet Shop Boys regresa a Santiago con su aclamado espectáculo de grandes éxitos. El tour\, titulado «Dreamworld: The Greatest Hits Live»\, aterrizará en tierras chilenas durante el verano de 2026. Esta gira celebra la impresionante trayectoria de una de las bandas más influenciales del pop electrónico mundial. \nLa esperada cita ocurrirá el próximo 27 de febrero de 2026. El evento tendrá lugar en el Movistar Arena\, el recinto principal para grandes conciertos en Santiago. Los fanáticos podrán disfrutar de una puesta en escena espectacular que combina tecnología visual y clásicos atemporales. \nDetalles de entradas y fechas de venta\nLa productora Bizarro Live Entertainment organiza este evento de primer nivel. El proceso de venta de tickets se realizará a través del sistema Punto Ticket en dos etapas clave: \n\n\nPreventa BancoEstado: Inicia el lunes 12 de enero a las 10:00 hrs. de forma exclusiva para clientes del banco. \n\n\nVenta General: Comienza el miércoles 14 de enero a las 10:30 hrs. (o al agotar el stock destinado a la preventa). \n\n\nSe recomienda a los seguidores asegurar sus entradas pronto. El dúo suele agotar localidades rápidamente en Chile. El Movistar Arena garantiza una experiencia auditiva y visual de alta fidelidad para todos los asistentes. \nReseña del dúo: El legado de Neil Tennant y Chris Lowe\nPet Shop Boys\, formado por Neil Tennant y Chris Lowe\, es el dúo más exitoso en la historia de la música del Reino Unido. Ellos han vendido más de 50 millones de discos en todo el mundo y poseen numerosos premios internacionales. Su estilo único mezcla el synth-pop con letras inteligentes\, sociales y melancólicas. Ellos transformaron la música de baile en una forma de arte sofisticada y masiva. \nSu catálogo incluye himnos generacionales que dominaron las listas de popularidad durante décadas. Canciones como «West End Girls»\, «It’s a Sin»\, «Always on My Mind» y «Go West» son piezas fundamentales del pop electrónico. La banda destaca por sus colaboraciones artísticas y sus presentaciones teatrales que rompen los esquemas tradicionales del concierto de rock. \nUna noche inolvidable de éxitos en el Movistar Arena\nEl tour «Dreamworld» ofrece un recorrido emocionante por todas las etapas de su carrera. Los asistentes vivirán una fiesta llena de sintetizadores\, luces y coreografías vanguardistas. La calidad interpretativa de Neil Tennant y la maestría musical de Chris Lowe aseguran un show de clase mundial. No pierdas la oportunidad de celebrar cuatro décadas de música revolucionaria en febrero de 2026. Listo para Pet Shop Boys en Santiago de Chile ??
URL:https://iguanasong.com/calendario/pet-shop-boys-santiago-2026/
LOCATION:Movistar Arena\, Santiago\, Chile
CATEGORIES:Electrónica,Post Punk
ATTACH;FMTTYPE=image/jpeg:https://iguanasong.com/wp-content/uploads/2026/01/petshopboys-chile-scaled.jpg
END:VEVENT
END:VCALENDAR