BEGIN:VCALENDAR
VERSION:2.0
PRODID:-// - ECPv6.15.20//NONSGML v1.0//EN
CALSCALE:GREGORIAN
METHOD:PUBLISH
X-ORIGINAL-URL:https://iguanasong.com
X-WR-CALDESC:Eventos para 
REFRESH-INTERVAL;VALUE=DURATION:PT1H
X-Robots-Tag:noindex
X-PUBLISHED-TTL:PT1H
BEGIN:VTIMEZONE
TZID:America/Santiago
BEGIN:STANDARD
TZOFFSETFROM:-0300
TZOFFSETTO:-0400
TZNAME:-04
DTSTART:20250406T030000
END:STANDARD
BEGIN:DAYLIGHT
TZOFFSETFROM:-0400
TZOFFSETTO:-0300
TZNAME:-03
DTSTART:20250907T040000
END:DAYLIGHT
BEGIN:STANDARD
TZOFFSETFROM:-0300
TZOFFSETTO:-0400
TZNAME:-04
DTSTART:20260405T030000
END:STANDARD
BEGIN:DAYLIGHT
TZOFFSETFROM:-0400
TZOFFSETTO:-0300
TZNAME:-03
DTSTART:20260906T040000
END:DAYLIGHT
BEGIN:STANDARD
TZOFFSETFROM:-0300
TZOFFSETTO:-0400
TZNAME:-04
DTSTART:20270404T030000
END:STANDARD
BEGIN:DAYLIGHT
TZOFFSETFROM:-0400
TZOFFSETTO:-0300
TZNAME:-03
DTSTART:20270905T040000
END:DAYLIGHT
END:VTIMEZONE
BEGIN:VEVENT
DTSTART;VALUE=DATE:20260421
DTEND;VALUE=DATE:20260422
DTSTAMP:20260421T020618
CREATED:20251015T145700Z
LAST-MODIFIED:20260405T160852Z
UID:33411-1776729600-1776815999@iguanasong.com
SUMMARY:Feuerschwanz
DESCRIPTION:
URL:https://iguanasong.com/calendario/feuerschwanz/
LOCATION:Rock Bar Xperience / RBX\, Santiago\, Chile
CATEGORIES:Folk,Folk Metal
ATTACH;FMTTYPE=image/png:https://iguanasong.com/wp-content/uploads/2026/04/7eb34cbf-30e8-2851-f8eb-994538a9929b-scaled.png
END:VEVENT
BEGIN:VEVENT
DTSTART;VALUE=DATE:20260421
DTEND;VALUE=DATE:20260422
DTSTAMP:20260421T020618
CREATED:20251215T143804Z
LAST-MODIFIED:20260406T153708Z
UID:33325-1776729600-1776815999@iguanasong.com
SUMMARY:In Flames en Santiago de Chile
DESCRIPTION:In Flames en Santiago de Chile\nLa potencia del death metal melódico sueco regresará a Santiago de Chile el próximo 21 de abril para presentarse en el histórico Teatro Cariola. In Flames llega en un momento de gran vigencia\, prometiendo una jornada donde la técnica y la agresividad sonora serán las protagonistas absolutas sobre el escenario capitalino. \nLa noche contará con una fuerte presencia nacional\, ya que las bandas chilenas Diametral y Projector han sido confirmadas como las encargadas de abrir el espectáculo. Bajo la producción de Chargola\, CKC y PowerProd. \n\nReseña del Artista\nIn Flames es considerada una de las bandas fundacionales del «Sonido de Gotemburgo»\, habiendo redefinido el metal extremo al incorporar melodías de guitarra sofisticadas y estructuras armoniosas al death metal. Con más de tres décadas de trayectoria\, la agrupación liderada por Anders Fridén y Björn Gelotte ha sabido evolucionar constantemente\, transitando desde sus raíces más crudas hacia un metal alternativo y moderno de alcance global\, sin perder la intensidad que los caracteriza. \nSu discografía es un testimonio de innovación\, con álbumes clásicos como The Jester Race y Clayman que son pilares del género\, hasta trabajos más recientes que exploran nuevas texturas sonoras. La capacidad de In Flames para conectar con distintas generaciones de fanáticos los mantiene como una de las bandas más influyentes y respetadas de la escena pesada mundial\, destacando siempre por sus energéticas presentaciones en vivo. \n\nInvasión Sueca en el Teatro Cariola\nEl concierto de In Flames en Santiago de Chile este 21 de abril será el punto de encuentro definitivo para los amantes de los riffs potentes y las armonías duales. El Teatro Cariola brindará la acústica y la cercanía necesarias para que la propuesta de los suecos\, sumada al talento nacional de Diametral y Projector\, convierta la noche en un hito del metal este semestre. \nPrepárate para una descarga de energía inigualable en un recinto con historia. Con la garantía de producción de Chargola y el apoyo de los principales medios especializados del país\, Santiago se alista para recibir una de las citas más importantes del calendario internacional. \n¿A quién veremos el próximo 21 de abril en el Teatro Cariola para vivir el regreso de In Flames a Santiago de Chile?.
URL:https://iguanasong.com/calendario/in-flames-en-teatro-cariola-santiago-de-chile/
LOCATION:Teatro Cariola\, Santiago\, Chile
CATEGORIES:Death Metal
ATTACH;FMTTYPE=image/avif:https://iguanasong.com/wp-content/uploads/2026/04/5bbf1fd15c211792b450019868841aa5b671181f-scaled.avif
END:VEVENT
BEGIN:VEVENT
DTSTART;VALUE=DATE:20260421
DTEND;VALUE=DATE:20260422
DTSTAMP:20260421T020618
CREATED:20260108T213334Z
LAST-MODIFIED:20260420T205716Z
UID:31945-1776729600-1776815999@iguanasong.com
SUMMARY:Roxette en Santiago de Chile
DESCRIPTION:Roxette en Santiago de Chile\nLa nostalgia y la energía del pop-rock Roxette sueco regresan con fuerza para presentarse en Santiago de Chile. El legendario fundador Per Gessle reúne a su clásica banda\, Roxette\, para un espectáculo que promete revivir décadas de éxitos. En esta ocasión\, la agrupación contará con la participación especial de la talentosa Lena Philipsson en las voces. La esperada cita musical ocurrirá el próximo 21 de abril de 2026. El escenario elegido para este reencuentro histórico es el Movistar Arena\, garantizando una experiencia de primer nivel para todos los asistentes. Bajo el lema «Back Again!»\, la banda vuelve a los escenarios para demostrar por qué su legado sigue más vivo que nunca. \nReseña del Artista\nRoxette destaca como uno de los dúos más exitosos y queridos en la historia del pop internacional. Formados en Suecia a mediados de los años 80\, la combinación del talento compositivo de Per Gessle y la voz inolvidable de Marie Fredriksson conquistó rápidamente las listas mundiales. Lograron posicionar múltiples sencillos en el número uno del Billboard\, convirtiéndose en un fenómeno global que trascendió fronteras. Su música equilibra perfectamente las baladas potentes con canciones de rock melódico cargadas de energía. A lo largo de su carrera\, han vendido más de 75 millones de discos en todo el planeta. \nEl repertorio de la banda incluye himnos generacionales que siguen sonando en todas las radios del mundo. Canciones icónicas como «It Must Have Been Love»\, «Listen to Your Heart» y «The Look» definieron una era dorada de la música pop. Tras la triste partida de Marie\, Per Gessle decidió honrar el legado del grupo volviendo a los escenarios con una nueva formación respetuosa y vibrante. La inclusión de Lena Philipsson aporta una nueva frescura vocal sin perder la esencia que hizo famosa a la agrupación. Ver a Roxette en vivo hoy es una oportunidad para celebrar la resiliencia de su catálogo musical y la maestría de sus composiciones originales. \nUn regreso esperado por generaciones\nEste concierto representa una oportunidad invaluable para disfrutar de clásicos que han marcado la vida de miles de chilenos. El Movistar Arena ofrece el entorno perfecto para corear cada una de las canciones en una atmósfera de celebración y recuerdos. La química entre Gessle y Philipsson sobre el escenario promete capturar la magia que siempre caracterizó a los espectáculos de la banda sueca. Asegura tu lugar en este reencuentro que promete ser uno de los momentos más memorables del calendario musical del año. \n¿A quién veremos el próximo 21 de abril en el Movistar Arena para ver a Roxette en Santiago de Chile?.
URL:https://iguanasong.com/calendario/roxette-en-santiago-de-chile/
LOCATION:Movistar Arena\, Santiago\, Chile
CATEGORIES:Rock,Rock Alternativo
ATTACH;FMTTYPE=image/jpeg:https://iguanasong.com/wp-content/uploads/2026/01/roxette_chile-scaled.jpg
END:VEVENT
BEGIN:VEVENT
DTSTART;VALUE=DATE:20260421
DTEND;VALUE=DATE:20260422
DTSTAMP:20260421T020618
CREATED:20260220T143242Z
LAST-MODIFIED:20260419T172634Z
UID:32727-1776729600-1776815999@iguanasong.com
SUMMARY:Candlebox en Santiago de Chile
DESCRIPTION:Candlebox en Santiago de Chile\nLa llegada de Candlebox a Santiago de Chile se confirma como uno de los platos fuertes para los amantes del rock alternativo este año. La icónica banda de Seattle se presentará el próximo 21 de abril en el Teatro Coliseo\, en lo que será el «Opening Show» oficial del festival Rockout. Este concierto promete una atmósfera cargada de nostalgia y potencia\, repasando los himnos que definieron el sonido de los años 90. \nLa venta de entradas para disfrutar de Candlebox en Santiago de Chile se realizará exclusivamente a través del sistema Punto Ticket. Bajo la producción de Transistor\, el evento en el Teatro Coliseo permitirá a los fanáticos chilenos vivir una experiencia cercana con una de las bandas más emblemáticas del post-grunge\, asegurando un despliegue técnico y sonoro de alta calidad. \n\nReseña del Artista\nCandlebox destaca como una de las agrupaciones más exitosas y duraderas surgidas de la explosión musical de Seattle a principios de la década de los 90. Con la voz inconfundible de Kevin Martin a la cabeza\, la banda logró capturar la atención mundial con su álbum debut homónimo\, el cual alcanzó la certificación de cuádruple platino gracias a baladas potentes y riffs memorables. A diferencia de muchos de sus contemporáneos\, Candlebox supo integrar matices del blues y el rock clásico en su propuesta\, otorgándoles un sello distintivo en la escena grunge. \nLa trayectoria de los estadounidenses resalta por una discografía coherente que ha sabido envejecer con elegancia\, manteniendo una base de seguidores leales en todo el continente. Canciones como «Far Behind»\, «You» y «Cover Me» no solo dominaron las listas de éxitos en su momento\, sino que se han convertido en clásicos fundamentales del rock contemporáneo. Tras periodos de giras intensas y lanzamientos aclamados por la crítica\, Candlebox continúa demostrando en vivo que su energía y pasión por el escenario permanecen intactas. \n\nOpening Show Rockout: La cita en Teatro Coliseo\nEl concierto de Candlebox en Santiago de Chile este 21 de abril servirá como la antesala perfecta para el festival Rockout\, ofreciendo un show de larga duración dedicado íntegramente a sus fanáticos. El Teatro Coliseo\, reconocido por su excelente acústica y ubicación privilegiada en el centro de la capital\, será el epicentro de una jornada donde el rock será el único protagonista. \nNo pierdas la oportunidad de asegurar tus tickets en Punto Ticket para este encuentro histórico con el quinteto de Seattle. Con la garantía de producción de Transistor\, Santiago se prepara para una noche de guitarras afiladas y voces potentes que marcará el inicio de la temporada de grandes festivales en el país. \n¿A quién veremos el próximo 21 de abril en el Teatro Coliseo para vivir la experiencia de Candlebox en Santiago de Chile?.
URL:https://iguanasong.com/calendario/candlebox-en-santiago-de-chile/
LOCATION:Teatro Coliseo\, Santiago\, Chile
CATEGORIES:Grunge,Rock,Rock Alternativo
ATTACH;FMTTYPE=image/jpeg:https://iguanasong.com/wp-content/uploads/2026/02/candlexbox-scaled.jpg
END:VEVENT
END:VCALENDAR